BEGIN:VCALENDAR
VERSION:2.0
PRODID:-//Mason Music - ECPv6.3.7//NONSGML v1.0//EN
CALSCALE:GREGORIAN
METHOD:PUBLISH
X-WR-CALNAME:Mason Music
X-ORIGINAL-URL:https://masonmusic.com
X-WR-CALDESC:Events for Mason Music
REFRESH-INTERVAL;VALUE=DURATION:PT1H
X-Robots-Tag:noindex
X-PUBLISHED-TTL:PT1H
BEGIN:VTIMEZONE
TZID:America/Chicago
BEGIN:DAYLIGHT
TZOFFSETFROM:-0600
TZOFFSETTO:-0500
TZNAME:CDT
DTSTART:20250309T080000
END:DAYLIGHT
BEGIN:STANDARD
TZOFFSETFROM:-0500
TZOFFSETTO:-0600
TZNAME:CST
DTSTART:20251102T070000
END:STANDARD
BEGIN:DAYLIGHT
TZOFFSETFROM:-0600
TZOFFSETTO:-0500
TZNAME:CDT
DTSTART:20260308T080000
END:DAYLIGHT
BEGIN:STANDARD
TZOFFSETFROM:-0500
TZOFFSETTO:-0600
TZNAME:CST
DTSTART:20261101T070000
END:STANDARD
END:VTIMEZONE
BEGIN:VEVENT
DTSTART;VALUE=DATE:20251222
DTEND;VALUE=DATE:20260104
DTSTAMP:20260420T222133
CREATED:20250429T173816Z
LAST-MODIFIED:20250429T173816Z
UID:10001770-1766361600-1767484799@masonmusic.com
SUMMARY:Winter Break (No Lessons)
DESCRIPTION:
URL:https://masonmusic.com/event/winter-break-no-lessons-2/
CATEGORIES:Holiday
END:VEVENT
BEGIN:VEVENT
DTSTART;VALUE=DATE:20251213
DTEND;VALUE=DATE:20251215
DTSTAMP:20260420T222133
CREATED:20250429T173816Z
LAST-MODIFIED:20250429T173816Z
UID:10001769-1765584000-1765756799@masonmusic.com
SUMMARY:Second Winter Recital Weekend
DESCRIPTION:
URL:https://masonmusic.com/event/second-winter-recital-weekend/
CATEGORIES:Recital
END:VEVENT
BEGIN:VEVENT
DTSTART;VALUE=DATE:20251206
DTEND;VALUE=DATE:20251208
DTSTAMP:20260420T222133
CREATED:20250429T173801Z
LAST-MODIFIED:20250429T173801Z
UID:10001768-1764979200-1765151999@masonmusic.com
SUMMARY:First Winter Recital Weekend
DESCRIPTION:
URL:https://masonmusic.com/event/first-winter-recital-weekend/
CATEGORIES:Recital
END:VEVENT
BEGIN:VEVENT
DTSTART;VALUE=DATE:20251205
DTEND;VALUE=DATE:20251206
DTSTAMP:20260420T222133
CREATED:20250429T173801Z
LAST-MODIFIED:20250429T173801Z
UID:10001767-1764892800-1764979199@masonmusic.com
SUMMARY:Registration for Second Weekend of Winter Recital Closes
DESCRIPTION:
URL:https://masonmusic.com/event/registration-for-second-weekend-of-winter-recital-closes/
CATEGORIES:Recital
END:VEVENT
BEGIN:VEVENT
DTSTART;VALUE=DATE:20251128
DTEND;VALUE=DATE:20251129
DTSTAMP:20260420T222133
CREATED:20250429T173801Z
LAST-MODIFIED:20250429T173801Z
UID:10001766-1764288000-1764374399@masonmusic.com
SUMMARY:Registration for First Weekend of Winter Recital Closes
DESCRIPTION:
URL:https://masonmusic.com/event/registration-for-first-weekend-of-winter-recital-closes/
CATEGORIES:Recital
END:VEVENT
BEGIN:VEVENT
DTSTART;VALUE=DATE:20251126
DTEND;VALUE=DATE:20251130
DTSTAMP:20260420T222133
CREATED:20250429T173801Z
LAST-MODIFIED:20250429T173801Z
UID:10001765-1764115200-1764460799@masonmusic.com
SUMMARY:Thanksgiving Break (No Lessons)
DESCRIPTION:
URL:https://masonmusic.com/event/thanksgiving-break-no-lessons-2/
CATEGORIES:Holiday
END:VEVENT
BEGIN:VEVENT
DTSTART;VALUE=DATE:20251116
DTEND;VALUE=DATE:20251117
DTSTAMP:20260420T222133
CREATED:20250429T173801Z
LAST-MODIFIED:20250429T173801Z
UID:10001764-1763251200-1763337599@masonmusic.com
SUMMARY:Fall Rock Band League Battle of the Bands and Awards Ceremony
DESCRIPTION:
URL:https://masonmusic.com/event/fall-rock-band-league-battle-of-the-bands-and-awards-ceremony/
CATEGORIES:Rock Band League
END:VEVENT
BEGIN:VEVENT
DTSTART;VALUE=DATE:20251114
DTEND;VALUE=DATE:20251115
DTSTAMP:20260420T222133
CREATED:20250429T173746Z
LAST-MODIFIED:20250429T173746Z
UID:10001763-1763078400-1763164799@masonmusic.com
SUMMARY:Spring 2026 Rock Band League Registration Opens
DESCRIPTION:
URL:https://masonmusic.com/event/spring-2026-rock-band-league-registration-opens/
CATEGORIES:Registration
END:VEVENT
BEGIN:VEVENT
DTSTART;VALUE=DATE:20251103
DTEND;VALUE=DATE:20251115
DTSTAMP:20260420T222133
CREATED:20250429T173746Z
LAST-MODIFIED:20250429T173746Z
UID:10001762-1762128000-1763164799@masonmusic.com
SUMMARY:Studio Canned Food Drive
DESCRIPTION:
URL:https://masonmusic.com/event/studio-canned-food-drive/
CATEGORIES:Event
END:VEVENT
BEGIN:VEVENT
DTSTART;VALUE=DATE:20251031
DTEND;VALUE=DATE:20251101
DTSTAMP:20260420T222133
CREATED:20250429T173746Z
LAST-MODIFIED:20250429T173746Z
UID:10001761-1761868800-1761955199@masonmusic.com
SUMMARY:*2400 Club Minutes Due*
DESCRIPTION:
URL:https://masonmusic.com/event/2400-club-minutes-due/
CATEGORIES:Event
END:VEVENT
BEGIN:VEVENT
DTSTART;VALUE=DATE:20251020
DTEND;VALUE=DATE:20251027
DTSTAMP:20260420T222133
CREATED:20250429T173746Z
LAST-MODIFIED:20251016T204629Z
UID:10001760-1760918400-1761523199@masonmusic.com
SUMMARY:Student Halloween Costume Contest
DESCRIPTION:
URL:https://masonmusic.com/event/student-halloween-costume-contest-2/
CATEGORIES:Event
END:VEVENT
BEGIN:VEVENT
DTSTART;VALUE=DATE:20251019
DTEND;VALUE=DATE:20251020
DTSTAMP:20260420T222133
CREATED:20250429T173746Z
LAST-MODIFIED:20250429T173746Z
UID:10001759-1760832000-1760918399@masonmusic.com
SUMMARY:Fall Rock Band League Tour Date #2
DESCRIPTION:
URL:https://masonmusic.com/event/fall-rock-band-league-tour-date-2/
CATEGORIES:Rock Band League
END:VEVENT
BEGIN:VEVENT
DTSTART;VALUE=DATE:20251006
DTEND;VALUE=DATE:20251011
DTSTAMP:20260420T222133
CREATED:20250429T173731Z
LAST-MODIFIED:20250429T173731Z
UID:10001758-1759708800-1760140799@masonmusic.com
SUMMARY:Parent/Teacher Conference Week
DESCRIPTION:
URL:https://masonmusic.com/event/parent-teacher-conference-week/
CATEGORIES:Event
END:VEVENT
BEGIN:VEVENT
DTSTART;VALUE=DATE:20251006
DTEND;VALUE=DATE:20251007
DTSTAMP:20260420T222133
CREATED:20250429T173731Z
LAST-MODIFIED:20250429T173731Z
UID:10001757-1759708800-1759795199@masonmusic.com
SUMMARY:Winter Recital Registration Opens
DESCRIPTION:
URL:https://masonmusic.com/event/winter-recital-registration-opens/
CATEGORIES:Registration
END:VEVENT
BEGIN:VEVENT
DTSTART;VALUE=DATE:20250929
DTEND;VALUE=DATE:20250930
DTSTAMP:20260420T222133
CREATED:20250429T173731Z
LAST-MODIFIED:20250429T173731Z
UID:10001756-1759104000-1759190399@masonmusic.com
SUMMARY:Winter Recital Registration Opens for Contract Holders
DESCRIPTION:
URL:https://masonmusic.com/event/winter-recital-registration-opens-for-contract-holders/
CATEGORIES:Registration
END:VEVENT
BEGIN:VEVENT
DTSTART;VALUE=DATE:20250921
DTEND;VALUE=DATE:20250922
DTSTAMP:20260420T222133
CREATED:20250429T173731Z
LAST-MODIFIED:20250429T173731Z
UID:10001755-1758412800-1758499199@masonmusic.com
SUMMARY:Fall Rock Band League Tour Date #1
DESCRIPTION:
URL:https://masonmusic.com/event/fall-rock-band-league-tour-date-1/
CATEGORIES:Rock Band League
END:VEVENT
BEGIN:VEVENT
DTSTART;VALUE=DATE:20250901
DTEND;VALUE=DATE:20250902
DTSTAMP:20260420T222133
CREATED:20250429T173731Z
LAST-MODIFIED:20250429T173731Z
UID:10001754-1756684800-1756771199@masonmusic.com
SUMMARY:Labor Day (No Lessons)
DESCRIPTION:
URL:https://masonmusic.com/event/labor-day-no-lessons/
CATEGORIES:Holiday
END:VEVENT
BEGIN:VEVENT
DTSTART;VALUE=DATE:20250824
DTEND;VALUE=DATE:20250825
DTSTAMP:20260420T222133
CREATED:20250429T173716Z
LAST-MODIFIED:20250429T173716Z
UID:10001753-1755993600-1756079999@masonmusic.com
SUMMARY:Fall Rock Band League First Rehearsal
DESCRIPTION:
URL:https://masonmusic.com/event/fall-rock-band-league-first-rehearsal/
CATEGORIES:Rock Band League
END:VEVENT
BEGIN:VEVENT
DTSTART;VALUE=DATE:20250810
DTEND;VALUE=DATE:20250811
DTSTAMP:20260420T222133
CREATED:20250429T173716Z
LAST-MODIFIED:20250429T173716Z
UID:10001752-1754784000-1754870399@masonmusic.com
SUMMARY:Fall Rock Band League Registration Closes
DESCRIPTION:
URL:https://masonmusic.com/event/fall-rock-band-league-registration-closes/
CATEGORIES:Registration
END:VEVENT
BEGIN:VEVENT
DTSTART;VALUE=DATE:20250728
DTEND;VALUE=DATE:20250802
DTSTAMP:20260420T222133
CREATED:20250429T173716Z
LAST-MODIFIED:20250429T173716Z
UID:10001750-1753660800-1754092799@masonmusic.com
SUMMARY:Mountain Brook (MB) Music Camp for Beginners – Session 6
DESCRIPTION:Mason Music Camp for Beginners gives 6–9 year-olds a chance to sing and try out guitar\, piano\, drums\, and ukulele. Campers explore instruments\, learn music concepts\, make crafts\, and play games. Recommendations are sent home for instrument aptitude.
URL:https://masonmusic.com/event/mountain-brook-mb-music-camp-for-beginners-session-6/
CATEGORIES:Camp
END:VEVENT
BEGIN:VEVENT
DTSTART;VALUE=DATE:20250728
DTEND;VALUE=DATE:20250802
DTSTAMP:20260420T222133
CREATED:20250429T173716Z
LAST-MODIFIED:20250429T173716Z
UID:10001751-1753660800-1754092799@masonmusic.com
SUMMARY:Cahaba Heights (CH) Guitar Camp For Beginners
DESCRIPTION:For ages 10–15\, Guitar Camp for Beginners covers chords\, strumming\, tuning\, reading\, and best practices. You’ll be playing real songs by the end of the week in a supportive environment.
URL:https://masonmusic.com/event/cahaba-heights-ch-guitar-camp-for-beginners/
CATEGORIES:Camp
END:VEVENT
BEGIN:VEVENT
DTSTART;VALUE=DATE:20250728
DTEND;VALUE=DATE:20250802
DTSTAMP:20260420T222133
CREATED:20250429T173716Z
LAST-MODIFIED:20250429T173716Z
UID:10001749-1753660800-1754092799@masonmusic.com
SUMMARY:Last Week of 10 Weeks of Summer
DESCRIPTION:
URL:https://masonmusic.com/event/last-week-of-10-weeks-of-summer/
CATEGORIES:Event
END:VEVENT
BEGIN:VEVENT
DTSTART;VALUE=DATE:20250721
DTEND;VALUE=DATE:20250726
DTSTAMP:20260420T222133
CREATED:20250429T173701Z
LAST-MODIFIED:20250429T173701Z
UID:10001747-1753056000-1753487999@masonmusic.com
SUMMARY:Bluff Park (BP) Camp for Beginners – Session 5
DESCRIPTION:Mason Music Camp for Beginners gives 6–9 year-olds a chance to sing and try out guitar\, piano\, drums\, and ukulele. Campers explore instruments\, learn music concepts\, make crafts\, and play games. Recommendations are sent home for instrument aptitude.
URL:https://masonmusic.com/event/bluff-park-bp-camp-for-beginners-session-5/
CATEGORIES:Camp
END:VEVENT
BEGIN:VEVENT
DTSTART;VALUE=DATE:20250721
DTEND;VALUE=DATE:20250726
DTSTAMP:20260420T222133
CREATED:20250429T173701Z
LAST-MODIFIED:20250429T173701Z
UID:10001748-1753056000-1753487999@masonmusic.com
SUMMARY:Cahaba Heights (CH) Rock Band Camp: Recording Edition
DESCRIPTION:Ages 13–18 with at least two years of experience can join this exclusive camp to form bands\, rehearse\, and record a professional demo. Includes time with a producer and studio experience. Audition video required.
URL:https://masonmusic.com/event/cahaba-heights-ch-rock-band-camp-recording-edition/
CATEGORIES:Rock Band League
END:VEVENT
BEGIN:VEVENT
DTSTART;VALUE=DATE:20250714
DTEND;VALUE=DATE:20250719
DTSTAMP:20260420T222133
CREATED:20250429T173701Z
LAST-MODIFIED:20250429T173701Z
UID:10001745-1752451200-1752883199@masonmusic.com
SUMMARY:Mountain Brook (MB) Camp for Preschoolers – Session 4
DESCRIPTION:Stars Preschool Music Camp is the perfect way for your little one to have fun exploring music creatively. They’ll learn the basics of music theory\, singing\, and playing instruments\, with time for crafts and movement. Suggested for ages 3–5 who are potty-trained.
URL:https://masonmusic.com/event/mountain-brook-mb-camp-for-preschoolers-session-4/
CATEGORIES:Camp
END:VEVENT
BEGIN:VEVENT
DTSTART;VALUE=DATE:20250714
DTEND;VALUE=DATE:20250719
DTSTAMP:20260420T222133
CREATED:20250429T173701Z
LAST-MODIFIED:20250429T173701Z
UID:10001746-1752451200-1752883199@masonmusic.com
SUMMARY:Cahaba Heights (CH) Music Camp for Beginners – Session 4
DESCRIPTION:Mason Music Camp for Beginners gives 6–9 year-olds a chance to sing and try out guitar\, piano\, drums\, and ukulele. Campers explore instruments\, learn music concepts\, make crafts\, and play games. Recommendations are sent home for instrument aptitude.
URL:https://masonmusic.com/event/cahaba-heights-ch-music-camp-for-beginners-session-4/
CATEGORIES:Camp
END:VEVENT
BEGIN:VEVENT
DTSTART;VALUE=DATE:20250707
DTEND;VALUE=DATE:20250712
DTSTAMP:20260420T222133
CREATED:20250429T173701Z
LAST-MODIFIED:20250429T173701Z
UID:10001744-1751846400-1752278399@masonmusic.com
SUMMARY:Mountain Brook (MB) Vocal Camp for Beginners
DESCRIPTION:Ages 10–15 will gain skills in projection\, diction\, tone\, ear training\, audition prep\, and more. Campers will create a vocal portfolio recording of their singing to share with friends and family.
URL:https://masonmusic.com/event/mountain-brook-mb-vocal-camp-for-beginners/
CATEGORIES:Camp
END:VEVENT
BEGIN:VEVENT
DTSTART;VALUE=DATE:20250707
DTEND;VALUE=DATE:20250712
DTSTAMP:20260420T222133
CREATED:20250429T173647Z
LAST-MODIFIED:20250429T173647Z
UID:10001743-1751846400-1752278399@masonmusic.com
SUMMARY:Greystone (GS) Music Camp For Preschoolers – Session 3
DESCRIPTION:Stars Preschool Music Camp is the perfect way for your little one to have fun exploring music creatively. They’ll learn the basics of music theory\, singing\, and playing instruments\, with time for crafts and movement. Suggested for ages 3–5 who are potty-trained.
URL:https://masonmusic.com/event/greystone-gs-music-camp-for-preschoolers-session-3/
CATEGORIES:Camp
END:VEVENT
BEGIN:VEVENT
DTSTART;VALUE=DATE:20250704
DTEND;VALUE=DATE:20250705
DTSTAMP:20260420T222133
CREATED:20250429T173647Z
LAST-MODIFIED:20250429T173647Z
UID:10001742-1751587200-1751673599@masonmusic.com
SUMMARY:Independence Day (No Lessons)
DESCRIPTION:
URL:https://masonmusic.com/event/independence-day-no-lessons/
CATEGORIES:Holiday
END:VEVENT
BEGIN:VEVENT
DTSTART;VALUE=DATE:20250630
DTEND;VALUE=DATE:20250701
DTSTAMP:20260420T222133
CREATED:20250429T173646Z
LAST-MODIFIED:20250429T173646Z
UID:10001741-1751241600-1751327999@masonmusic.com
SUMMARY:Fall Rock Band League Registration Opens
DESCRIPTION:
URL:https://masonmusic.com/event/fall-rock-band-league-registration-opens/
CATEGORIES:Registration
END:VEVENT
END:VCALENDAR