BEGIN:VCALENDAR
VERSION:2.0
PRODID:-//Mason Music - ECPv6.3.7//NONSGML v1.0//EN
CALSCALE:GREGORIAN
METHOD:PUBLISH
X-WR-CALNAME:Mason Music
X-ORIGINAL-URL:https://masonmusic.com
X-WR-CALDESC:Events for Mason Music
REFRESH-INTERVAL;VALUE=DURATION:PT1H
X-Robots-Tag:noindex
X-PUBLISHED-TTL:PT1H
BEGIN:VTIMEZONE
TZID:America/Chicago
BEGIN:DAYLIGHT
TZOFFSETFROM:-0600
TZOFFSETTO:-0500
TZNAME:CDT
DTSTART:20230312T080000
END:DAYLIGHT
BEGIN:STANDARD
TZOFFSETFROM:-0500
TZOFFSETTO:-0600
TZNAME:CST
DTSTART:20231105T070000
END:STANDARD
END:VTIMEZONE
BEGIN:VEVENT
DTSTART;TZID=America/Chicago:20230731T083000
DTEND;TZID=America/Chicago:20230731T113000
DTSTAMP:20260421T193027
CREATED:20230327T171259Z
LAST-MODIFIED:20230424T210805Z
UID:10001582-1690792200-1690803000@masonmusic.com
SUMMARY:Summer Music Camp for Beginners (Session 6)
DESCRIPTION:
URL:https://masonmusic.com/event/summer-music-camp-for-beginners-session-6/2023-07-31/
LOCATION:Mason Music Cahaba Heights\, 3187 Cahaba Heights Road\, Birmingham\, AL\, 35243\, United States
ATTACH;FMTTYPE=image/png:https://masonmusic.com/wp-content/uploads/InstagramPost-3.png
END:VEVENT
BEGIN:VEVENT
DTSTART;TZID=America/Chicago:20230729T083000
DTEND;TZID=America/Chicago:20230729T143000
DTSTAMP:20260421T193027
CREATED:20230327T173205Z
LAST-MODIFIED:20230424T210931Z
UID:10001627-1690619400-1690641000@masonmusic.com
SUMMARY:Rock Band Camp: Recording Edition
DESCRIPTION:
URL:https://masonmusic.com/event/rock-band-camp-recording-edition/2023-07-29/
LOCATION:Mason Music Cahaba Heights\, 3187 Cahaba Heights Road\, Birmingham\, AL\, 35243\, United States
ATTACH;FMTTYPE=image/png:https://masonmusic.com/wp-content/uploads/TVSlide-3.png
END:VEVENT
BEGIN:VEVENT
DTSTART;VALUE=DATE:20230729
DTEND;VALUE=DATE:20230730
DTSTAMP:20260421T193027
CREATED:20230327T185314Z
LAST-MODIFIED:20230501T150126Z
UID:10001659-1690588800-1690675199@masonmusic.com
SUMMARY:Mason Music Fest
DESCRIPTION:
URL:https://masonmusic.com/event/mason-music-fest/
LOCATION:AL
ATTACH;FMTTYPE=image/jpeg:https://masonmusic.com/wp-content/uploads/Mason-Music-Web-Banner.jpg
END:VEVENT
BEGIN:VEVENT
DTSTART;TZID=America/Chicago:20230728T083000
DTEND;TZID=America/Chicago:20230728T143000
DTSTAMP:20260421T193027
CREATED:20230327T173205Z
LAST-MODIFIED:20230424T210931Z
UID:10001626-1690533000-1690554600@masonmusic.com
SUMMARY:Rock Band Camp: Recording Edition
DESCRIPTION:
URL:https://masonmusic.com/event/rock-band-camp-recording-edition/2023-07-28/
LOCATION:Mason Music Cahaba Heights\, 3187 Cahaba Heights Road\, Birmingham\, AL\, 35243\, United States
ATTACH;FMTTYPE=image/png:https://masonmusic.com/wp-content/uploads/TVSlide-3.png
END:VEVENT
BEGIN:VEVENT
DTSTART;TZID=America/Chicago:20230728T083000
DTEND;TZID=America/Chicago:20230728T113000
DTSTAMP:20260421T193027
CREATED:20230327T172142Z
LAST-MODIFIED:20230424T211011Z
UID:10001606-1690533000-1690543800@masonmusic.com
SUMMARY:Songs of the Sea Music Camp for Preschoolers (Session 4)
DESCRIPTION:
URL:https://masonmusic.com/event/songs-of-the-sea-music-camp-for-preschoolers-session-4/2023-07-28/
LOCATION:Mason Music Bluff Park\, 761 Shades Mountain Plaza\, Hoover\, AL\, 35226\, United States
ATTACH;FMTTYPE=image/png:https://masonmusic.com/wp-content/uploads/InstagramPost-2.png
END:VEVENT
BEGIN:VEVENT
DTSTART;TZID=America/Chicago:20230727T130000
DTEND;TZID=America/Chicago:20230727T140000
DTSTAMP:20260421T193027
CREATED:20230407T155748Z
LAST-MODIFIED:20230426T142051Z
UID:10001675-1690462800-1690466400@masonmusic.com
SUMMARY:Munchkin Music: Mountain Brook
DESCRIPTION:
URL:https://masonmusic.com/event/munchkin-music-session-2-2/2023-07-27/
LOCATION:Mason Music Mountain Brook\, 2903 Cahaba Road\, Birmingham\, AL\, 35223\, United States
ATTACH;FMTTYPE=image/png:https://masonmusic.com/wp-content/uploads/InstagramPost-8.png
END:VEVENT
BEGIN:VEVENT
DTSTART;TZID=America/Chicago:20230727T083000
DTEND;TZID=America/Chicago:20230727T143000
DTSTAMP:20260421T193027
CREATED:20230327T173205Z
LAST-MODIFIED:20230424T210931Z
UID:10001625-1690446600-1690468200@masonmusic.com
SUMMARY:Rock Band Camp: Recording Edition
DESCRIPTION:
URL:https://masonmusic.com/event/rock-band-camp-recording-edition/2023-07-27/
LOCATION:Mason Music Cahaba Heights\, 3187 Cahaba Heights Road\, Birmingham\, AL\, 35243\, United States
ATTACH;FMTTYPE=image/png:https://masonmusic.com/wp-content/uploads/TVSlide-3.png
END:VEVENT
BEGIN:VEVENT
DTSTART;TZID=America/Chicago:20230727T083000
DTEND;TZID=America/Chicago:20230727T113000
DTSTAMP:20260421T193027
CREATED:20230327T172142Z
LAST-MODIFIED:20230424T211011Z
UID:10001605-1690446600-1690457400@masonmusic.com
SUMMARY:Songs of the Sea Music Camp for Preschoolers (Session 4)
DESCRIPTION:
URL:https://masonmusic.com/event/songs-of-the-sea-music-camp-for-preschoolers-session-4/2023-07-27/
LOCATION:Mason Music Bluff Park\, 761 Shades Mountain Plaza\, Hoover\, AL\, 35226\, United States
ATTACH;FMTTYPE=image/png:https://masonmusic.com/wp-content/uploads/InstagramPost-2.png
END:VEVENT
BEGIN:VEVENT
DTSTART;TZID=America/Chicago:20230726T083000
DTEND;TZID=America/Chicago:20230726T143000
DTSTAMP:20260421T193027
CREATED:20230327T173205Z
LAST-MODIFIED:20230424T210931Z
UID:10001624-1690360200-1690381800@masonmusic.com
SUMMARY:Rock Band Camp: Recording Edition
DESCRIPTION:
URL:https://masonmusic.com/event/rock-band-camp-recording-edition/2023-07-26/
LOCATION:Mason Music Cahaba Heights\, 3187 Cahaba Heights Road\, Birmingham\, AL\, 35243\, United States
ATTACH;FMTTYPE=image/png:https://masonmusic.com/wp-content/uploads/TVSlide-3.png
END:VEVENT
BEGIN:VEVENT
DTSTART;TZID=America/Chicago:20230726T083000
DTEND;TZID=America/Chicago:20230726T113000
DTSTAMP:20260421T193027
CREATED:20230327T172142Z
LAST-MODIFIED:20230424T211011Z
UID:10001604-1690360200-1690371000@masonmusic.com
SUMMARY:Songs of the Sea Music Camp for Preschoolers (Session 4)
DESCRIPTION:
URL:https://masonmusic.com/event/songs-of-the-sea-music-camp-for-preschoolers-session-4/2023-07-26/
LOCATION:Mason Music Bluff Park\, 761 Shades Mountain Plaza\, Hoover\, AL\, 35226\, United States
ATTACH;FMTTYPE=image/png:https://masonmusic.com/wp-content/uploads/InstagramPost-2.png
END:VEVENT
BEGIN:VEVENT
DTSTART;TZID=America/Chicago:20230725T083000
DTEND;TZID=America/Chicago:20230725T143000
DTSTAMP:20260421T193027
CREATED:20230327T173205Z
LAST-MODIFIED:20230424T210931Z
UID:10001623-1690273800-1690295400@masonmusic.com
SUMMARY:Rock Band Camp: Recording Edition
DESCRIPTION:
URL:https://masonmusic.com/event/rock-band-camp-recording-edition/2023-07-25/
LOCATION:Mason Music Cahaba Heights\, 3187 Cahaba Heights Road\, Birmingham\, AL\, 35243\, United States
ATTACH;FMTTYPE=image/png:https://masonmusic.com/wp-content/uploads/TVSlide-3.png
END:VEVENT
BEGIN:VEVENT
DTSTART;TZID=America/Chicago:20230725T083000
DTEND;TZID=America/Chicago:20230725T113000
DTSTAMP:20260421T193027
CREATED:20230327T172142Z
LAST-MODIFIED:20230424T211011Z
UID:10001603-1690273800-1690284600@masonmusic.com
SUMMARY:Songs of the Sea Music Camp for Preschoolers (Session 4)
DESCRIPTION:
URL:https://masonmusic.com/event/songs-of-the-sea-music-camp-for-preschoolers-session-4/2023-07-25/
LOCATION:Mason Music Bluff Park\, 761 Shades Mountain Plaza\, Hoover\, AL\, 35226\, United States
ATTACH;FMTTYPE=image/png:https://masonmusic.com/wp-content/uploads/InstagramPost-2.png
END:VEVENT
BEGIN:VEVENT
DTSTART;TZID=America/Chicago:20230724T083000
DTEND;TZID=America/Chicago:20230724T143000
DTSTAMP:20260421T193028
CREATED:20230327T173205Z
LAST-MODIFIED:20230424T210931Z
UID:10001622-1690187400-1690209000@masonmusic.com
SUMMARY:Rock Band Camp: Recording Edition
DESCRIPTION:
URL:https://masonmusic.com/event/rock-band-camp-recording-edition/2023-07-24/
LOCATION:Mason Music Cahaba Heights\, 3187 Cahaba Heights Road\, Birmingham\, AL\, 35243\, United States
ATTACH;FMTTYPE=image/png:https://masonmusic.com/wp-content/uploads/TVSlide-3.png
END:VEVENT
BEGIN:VEVENT
DTSTART;TZID=America/Chicago:20230724T083000
DTEND;TZID=America/Chicago:20230724T113000
DTSTAMP:20260421T193028
CREATED:20230327T172142Z
LAST-MODIFIED:20230424T211011Z
UID:10001602-1690187400-1690198200@masonmusic.com
SUMMARY:Songs of the Sea Music Camp for Preschoolers (Session 4)
DESCRIPTION:
URL:https://masonmusic.com/event/songs-of-the-sea-music-camp-for-preschoolers-session-4/2023-07-24/
LOCATION:Mason Music Bluff Park\, 761 Shades Mountain Plaza\, Hoover\, AL\, 35226\, United States
ATTACH;FMTTYPE=image/png:https://masonmusic.com/wp-content/uploads/InstagramPost-2.png
END:VEVENT
BEGIN:VEVENT
DTSTART;TZID=America/Chicago:20230721T083000
DTEND;TZID=America/Chicago:20230721T113000
DTSTAMP:20260421T193028
CREATED:20230327T171951Z
LAST-MODIFIED:20230424T211158Z
UID:10001601-1689928200-1689939000@masonmusic.com
SUMMARY:Songs of the Sea Music Camp for Preschoolers (Session 3)
DESCRIPTION:
URL:https://masonmusic.com/event/songs-of-the-sea-music-camp-for-preschoolers-session-3/2023-07-21/
LOCATION:Mason Music Mountain Brook\, 2903 Cahaba Road\, Birmingham\, AL\, 35223\, United States
ATTACH;FMTTYPE=image/png:https://masonmusic.com/wp-content/uploads/InstagramPost-2.png
END:VEVENT
BEGIN:VEVENT
DTSTART;TZID=America/Chicago:20230721T083000
DTEND;TZID=America/Chicago:20230721T113000
DTSTAMP:20260421T193028
CREATED:20230327T171114Z
LAST-MODIFIED:20230424T211239Z
UID:10001581-1689928200-1689939000@masonmusic.com
SUMMARY:Summer Music Camp for Beginners (Session 5)
DESCRIPTION:
URL:https://masonmusic.com/event/summer-music-camp-for-beginners-session-5/2023-07-21/
LOCATION:Mason Music Mountain Brook\, 2903 Cahaba Road\, Birmingham\, AL\, 35223\, United States
ATTACH;FMTTYPE=image/png:https://masonmusic.com/wp-content/uploads/InstagramPost-3.png
END:VEVENT
BEGIN:VEVENT
DTSTART;TZID=America/Chicago:20230720T130000
DTEND;TZID=America/Chicago:20230720T140000
DTSTAMP:20260421T193028
CREATED:20230407T155748Z
LAST-MODIFIED:20230426T142051Z
UID:10001674-1689858000-1689861600@masonmusic.com
SUMMARY:Munchkin Music: Mountain Brook
DESCRIPTION:
URL:https://masonmusic.com/event/munchkin-music-session-2-2/2023-07-20/
LOCATION:Mason Music Mountain Brook\, 2903 Cahaba Road\, Birmingham\, AL\, 35223\, United States
ATTACH;FMTTYPE=image/png:https://masonmusic.com/wp-content/uploads/InstagramPost-8.png
END:VEVENT
BEGIN:VEVENT
DTSTART;TZID=America/Chicago:20230720T083000
DTEND;TZID=America/Chicago:20230720T113000
DTSTAMP:20260421T193028
CREATED:20230327T171951Z
LAST-MODIFIED:20230424T211158Z
UID:10001600-1689841800-1689852600@masonmusic.com
SUMMARY:Songs of the Sea Music Camp for Preschoolers (Session 3)
DESCRIPTION:
URL:https://masonmusic.com/event/songs-of-the-sea-music-camp-for-preschoolers-session-3/2023-07-20/
LOCATION:Mason Music Mountain Brook\, 2903 Cahaba Road\, Birmingham\, AL\, 35223\, United States
ATTACH;FMTTYPE=image/png:https://masonmusic.com/wp-content/uploads/InstagramPost-2.png
END:VEVENT
BEGIN:VEVENT
DTSTART;TZID=America/Chicago:20230720T083000
DTEND;TZID=America/Chicago:20230720T113000
DTSTAMP:20260421T193028
CREATED:20230327T171114Z
LAST-MODIFIED:20230424T211239Z
UID:10001580-1689841800-1689852600@masonmusic.com
SUMMARY:Summer Music Camp for Beginners (Session 5)
DESCRIPTION:
URL:https://masonmusic.com/event/summer-music-camp-for-beginners-session-5/2023-07-20/
LOCATION:Mason Music Mountain Brook\, 2903 Cahaba Road\, Birmingham\, AL\, 35223\, United States
ATTACH;FMTTYPE=image/png:https://masonmusic.com/wp-content/uploads/InstagramPost-3.png
END:VEVENT
BEGIN:VEVENT
DTSTART;TZID=America/Chicago:20230719T083000
DTEND;TZID=America/Chicago:20230719T113000
DTSTAMP:20260421T193028
CREATED:20230327T171951Z
LAST-MODIFIED:20230424T211158Z
UID:10001599-1689755400-1689766200@masonmusic.com
SUMMARY:Songs of the Sea Music Camp for Preschoolers (Session 3)
DESCRIPTION:
URL:https://masonmusic.com/event/songs-of-the-sea-music-camp-for-preschoolers-session-3/2023-07-19/
LOCATION:Mason Music Mountain Brook\, 2903 Cahaba Road\, Birmingham\, AL\, 35223\, United States
ATTACH;FMTTYPE=image/png:https://masonmusic.com/wp-content/uploads/InstagramPost-2.png
END:VEVENT
BEGIN:VEVENT
DTSTART;TZID=America/Chicago:20230719T083000
DTEND;TZID=America/Chicago:20230719T113000
DTSTAMP:20260421T193028
CREATED:20230327T171114Z
LAST-MODIFIED:20230424T211239Z
UID:10001579-1689755400-1689766200@masonmusic.com
SUMMARY:Summer Music Camp for Beginners (Session 5)
DESCRIPTION:
URL:https://masonmusic.com/event/summer-music-camp-for-beginners-session-5/2023-07-19/
LOCATION:Mason Music Mountain Brook\, 2903 Cahaba Road\, Birmingham\, AL\, 35223\, United States
ATTACH;FMTTYPE=image/png:https://masonmusic.com/wp-content/uploads/InstagramPost-3.png
END:VEVENT
BEGIN:VEVENT
DTSTART;TZID=America/Chicago:20230718T083000
DTEND;TZID=America/Chicago:20230718T113000
DTSTAMP:20260421T193028
CREATED:20230327T171951Z
LAST-MODIFIED:20230424T211158Z
UID:10001598-1689669000-1689679800@masonmusic.com
SUMMARY:Songs of the Sea Music Camp for Preschoolers (Session 3)
DESCRIPTION:
URL:https://masonmusic.com/event/songs-of-the-sea-music-camp-for-preschoolers-session-3/2023-07-18/
LOCATION:Mason Music Mountain Brook\, 2903 Cahaba Road\, Birmingham\, AL\, 35223\, United States
ATTACH;FMTTYPE=image/png:https://masonmusic.com/wp-content/uploads/InstagramPost-2.png
END:VEVENT
BEGIN:VEVENT
DTSTART;TZID=America/Chicago:20230718T083000
DTEND;TZID=America/Chicago:20230718T113000
DTSTAMP:20260421T193028
CREATED:20230327T171114Z
LAST-MODIFIED:20230424T211239Z
UID:10001578-1689669000-1689679800@masonmusic.com
SUMMARY:Summer Music Camp for Beginners (Session 5)
DESCRIPTION:
URL:https://masonmusic.com/event/summer-music-camp-for-beginners-session-5/2023-07-18/
LOCATION:Mason Music Mountain Brook\, 2903 Cahaba Road\, Birmingham\, AL\, 35223\, United States
ATTACH;FMTTYPE=image/png:https://masonmusic.com/wp-content/uploads/InstagramPost-3.png
END:VEVENT
BEGIN:VEVENT
DTSTART;TZID=America/Chicago:20230718T080000
DTEND;TZID=America/Chicago:20230722T170000
DTSTAMP:20260421T193028
CREATED:20221206T211834Z
LAST-MODIFIED:20230424T211102Z
UID:10000002-1689667200-1690045200@masonmusic.com
SUMMARY:Mason Music Camp For Beginners (Session 4 - Bluff Park)
DESCRIPTION:
URL:https://masonmusic.com/event/mason-music-camp-for-beginners-session-4-bluff-park/
LOCATION:AL
ATTACH;FMTTYPE=image/png:https://masonmusic.com/wp-content/uploads/InstagramPost-3.png
END:VEVENT
BEGIN:VEVENT
DTSTART;TZID=America/Chicago:20230717T083000
DTEND;TZID=America/Chicago:20230717T113000
DTSTAMP:20260421T193028
CREATED:20230327T171951Z
LAST-MODIFIED:20230424T211158Z
UID:10001597-1689582600-1689593400@masonmusic.com
SUMMARY:Songs of the Sea Music Camp for Preschoolers (Session 3)
DESCRIPTION:
URL:https://masonmusic.com/event/songs-of-the-sea-music-camp-for-preschoolers-session-3/2023-07-17/
LOCATION:Mason Music Mountain Brook\, 2903 Cahaba Road\, Birmingham\, AL\, 35223\, United States
ATTACH;FMTTYPE=image/png:https://masonmusic.com/wp-content/uploads/InstagramPost-2.png
END:VEVENT
BEGIN:VEVENT
DTSTART;TZID=America/Chicago:20230717T083000
DTEND;TZID=America/Chicago:20230717T113000
DTSTAMP:20260421T193028
CREATED:20230327T171114Z
LAST-MODIFIED:20230424T211239Z
UID:10001577-1689582600-1689593400@masonmusic.com
SUMMARY:Summer Music Camp for Beginners (Session 5)
DESCRIPTION:
URL:https://masonmusic.com/event/summer-music-camp-for-beginners-session-5/2023-07-17/
LOCATION:Mason Music Mountain Brook\, 2903 Cahaba Road\, Birmingham\, AL\, 35223\, United States
ATTACH;FMTTYPE=image/png:https://masonmusic.com/wp-content/uploads/InstagramPost-3.png
END:VEVENT
BEGIN:VEVENT
DTSTART;TZID=America/Chicago:20230714T083000
DTEND;TZID=America/Chicago:20230714T113000
DTSTAMP:20260421T193028
CREATED:20230327T172642Z
LAST-MODIFIED:20230424T211320Z
UID:10001616-1689323400-1689334200@masonmusic.com
SUMMARY:Vocal Performance Camp for Beginners
DESCRIPTION:
URL:https://masonmusic.com/event/vocal-performance-camp-for-beginners/2023-07-14/
LOCATION:Mason Music Mountain Brook\, 2903 Cahaba Road\, Birmingham\, AL\, 35223\, United States
ATTACH;FMTTYPE=image/png:https://masonmusic.com/wp-content/uploads/InstagramPost-5.png
END:VEVENT
BEGIN:VEVENT
DTSTART;TZID=America/Chicago:20230714T083000
DTEND;TZID=America/Chicago:20230714T113000
DTSTAMP:20260421T193028
CREATED:20230327T170944Z
LAST-MODIFIED:20230424T211415Z
UID:10001576-1689323400-1689334200@masonmusic.com
SUMMARY:Summer Music Camp for Beginners (Session 4)
DESCRIPTION:
URL:https://masonmusic.com/event/summer-music-camp-for-beginners-session-4/2023-07-14/
LOCATION:Mason Music Bluff Park\, 761 Shades Mountain Plaza\, Hoover\, AL\, 35226\, United States
ATTACH;FMTTYPE=image/png:https://masonmusic.com/wp-content/uploads/InstagramPost-3.png
END:VEVENT
BEGIN:VEVENT
DTSTART;TZID=America/Chicago:20230713T130000
DTEND;TZID=America/Chicago:20230713T140000
DTSTAMP:20260421T193028
CREATED:20230407T155748Z
LAST-MODIFIED:20230426T142051Z
UID:10001673-1689253200-1689256800@masonmusic.com
SUMMARY:Munchkin Music: Mountain Brook
DESCRIPTION:
URL:https://masonmusic.com/event/munchkin-music-session-2-2/2023-07-13/
LOCATION:Mason Music Mountain Brook\, 2903 Cahaba Road\, Birmingham\, AL\, 35223\, United States
ATTACH;FMTTYPE=image/png:https://masonmusic.com/wp-content/uploads/InstagramPost-8.png
END:VEVENT
BEGIN:VEVENT
DTSTART;TZID=America/Chicago:20230713T083000
DTEND;TZID=America/Chicago:20230713T113000
DTSTAMP:20260421T193028
CREATED:20230327T172642Z
LAST-MODIFIED:20230424T211320Z
UID:10001615-1689237000-1689247800@masonmusic.com
SUMMARY:Vocal Performance Camp for Beginners
DESCRIPTION:
URL:https://masonmusic.com/event/vocal-performance-camp-for-beginners/2023-07-13/
LOCATION:Mason Music Mountain Brook\, 2903 Cahaba Road\, Birmingham\, AL\, 35223\, United States
ATTACH;FMTTYPE=image/png:https://masonmusic.com/wp-content/uploads/InstagramPost-5.png
END:VEVENT
END:VCALENDAR