BEGIN:VCALENDAR
VERSION:2.0
PRODID:-//Mason Music - ECPv6.3.7//NONSGML v1.0//EN
CALSCALE:GREGORIAN
METHOD:PUBLISH
X-WR-CALNAME:Mason Music
X-ORIGINAL-URL:https://masonmusic.com
X-WR-CALDESC:Events for Mason Music
REFRESH-INTERVAL;VALUE=DURATION:PT1H
X-Robots-Tag:noindex
X-PUBLISHED-TTL:PT1H
BEGIN:VTIMEZONE
TZID:America/Chicago
BEGIN:DAYLIGHT
TZOFFSETFROM:-0600
TZOFFSETTO:-0500
TZNAME:CDT
DTSTART:20230312T080000
END:DAYLIGHT
BEGIN:STANDARD
TZOFFSETFROM:-0500
TZOFFSETTO:-0600
TZNAME:CST
DTSTART:20231105T070000
END:STANDARD
END:VTIMEZONE
BEGIN:VEVENT
DTSTART;TZID=America/Chicago:20230710T083000
DTEND;TZID=America/Chicago:20230710T113000
DTSTAMP:20260422T172458
CREATED:20230327T170944Z
LAST-MODIFIED:20230424T211415Z
UID:10001572-1688977800-1688988600@masonmusic.com
SUMMARY:Summer Music Camp for Beginners (Session 4)
DESCRIPTION:
URL:https://masonmusic.com/event/summer-music-camp-for-beginners-session-4/2023-07-10/
LOCATION:Mason Music Bluff Park\, 761 Shades Mountain Plaza\, Hoover\, AL\, 35226\, United States
ATTACH;FMTTYPE=image/png:https://masonmusic.com/wp-content/uploads/InstagramPost-3.png
END:VEVENT
BEGIN:VEVENT
DTSTART;VALUE=DATE:20230710
DTEND;VALUE=DATE:20230711
DTSTAMP:20260422T172458
CREATED:20230327T173805Z
LAST-MODIFIED:20230424T211455Z
UID:10001630-1688947200-1689033599@masonmusic.com
SUMMARY:Munchkin Music Fall Registration Opens
DESCRIPTION:
URL:https://masonmusic.com/event/munchkin-music-fall-registration-opens/
ATTACH;FMTTYPE=image/png:https://masonmusic.com/wp-content/uploads/InstagramPost-8.png
END:VEVENT
BEGIN:VEVENT
DTSTART;TZID=America/Chicago:20230706T130000
DTEND;TZID=America/Chicago:20230706T140000
DTSTAMP:20260422T172458
CREATED:20230407T155748Z
LAST-MODIFIED:20230426T142051Z
UID:10001672-1688648400-1688652000@masonmusic.com
SUMMARY:Munchkin Music: Mountain Brook
DESCRIPTION:
URL:https://masonmusic.com/event/munchkin-music-session-2-2/2023-07-06/
LOCATION:Mason Music Mountain Brook\, 2903 Cahaba Road\, Birmingham\, AL\, 35223\, United States
ATTACH;FMTTYPE=image/png:https://masonmusic.com/wp-content/uploads/InstagramPost-8.png
END:VEVENT
BEGIN:VEVENT
DTSTART;VALUE=DATE:20230704
DTEND;VALUE=DATE:20230705
DTSTAMP:20260422T172458
CREATED:20230327T173733Z
LAST-MODIFIED:20230327T173733Z
UID:10001629-1688428800-1688515199@masonmusic.com
SUMMARY:No Lessons
DESCRIPTION:
URL:https://masonmusic.com/event/no-lessons/
END:VEVENT
BEGIN:VEVENT
DTSTART;TZID=America/Chicago:20230630T083000
DTEND;TZID=America/Chicago:20230630T113000
DTSTAMP:20260422T172458
CREATED:20230327T170742Z
LAST-MODIFIED:20230424T211548Z
UID:10001571-1688113800-1688124600@masonmusic.com
SUMMARY:Summer Music Camp for Beginners (Session 3)
DESCRIPTION:
URL:https://masonmusic.com/event/summer-music-camp-for-beginners-session-3/2023-06-30/
LOCATION:Mason Music Cahaba Heights\, 3187 Cahaba Heights Road\, Birmingham\, AL\, 35243\, United States
ATTACH;FMTTYPE=image/png:https://masonmusic.com/wp-content/uploads/InstagramPost-3.png
END:VEVENT
BEGIN:VEVENT
DTSTART;TZID=America/Chicago:20230629T130000
DTEND;TZID=America/Chicago:20230629T140000
DTSTAMP:20260422T172458
CREATED:20230407T155748Z
LAST-MODIFIED:20230426T142051Z
UID:10001671-1688043600-1688047200@masonmusic.com
SUMMARY:Munchkin Music: Mountain Brook
DESCRIPTION:
URL:https://masonmusic.com/event/munchkin-music-session-2-2/2023-06-29/
LOCATION:Mason Music Mountain Brook\, 2903 Cahaba Road\, Birmingham\, AL\, 35223\, United States
ATTACH;FMTTYPE=image/png:https://masonmusic.com/wp-content/uploads/InstagramPost-8.png
END:VEVENT
BEGIN:VEVENT
DTSTART;TZID=America/Chicago:20230629T083000
DTEND;TZID=America/Chicago:20230629T113000
DTSTAMP:20260422T172458
CREATED:20230327T170742Z
LAST-MODIFIED:20230424T211548Z
UID:10001570-1688027400-1688038200@masonmusic.com
SUMMARY:Summer Music Camp for Beginners (Session 3)
DESCRIPTION:
URL:https://masonmusic.com/event/summer-music-camp-for-beginners-session-3/2023-06-29/
LOCATION:Mason Music Cahaba Heights\, 3187 Cahaba Heights Road\, Birmingham\, AL\, 35243\, United States
ATTACH;FMTTYPE=image/png:https://masonmusic.com/wp-content/uploads/InstagramPost-3.png
END:VEVENT
BEGIN:VEVENT
DTSTART;TZID=America/Chicago:20230628T083000
DTEND;TZID=America/Chicago:20230628T113000
DTSTAMP:20260422T172458
CREATED:20230327T170742Z
LAST-MODIFIED:20230424T211548Z
UID:10001569-1687941000-1687951800@masonmusic.com
SUMMARY:Summer Music Camp for Beginners (Session 3)
DESCRIPTION:
URL:https://masonmusic.com/event/summer-music-camp-for-beginners-session-3/2023-06-28/
LOCATION:Mason Music Cahaba Heights\, 3187 Cahaba Heights Road\, Birmingham\, AL\, 35243\, United States
ATTACH;FMTTYPE=image/png:https://masonmusic.com/wp-content/uploads/InstagramPost-3.png
END:VEVENT
BEGIN:VEVENT
DTSTART;TZID=America/Chicago:20230627T083000
DTEND;TZID=America/Chicago:20230627T113000
DTSTAMP:20260422T172458
CREATED:20230327T170742Z
LAST-MODIFIED:20230424T211548Z
UID:10001568-1687854600-1687865400@masonmusic.com
SUMMARY:Summer Music Camp for Beginners (Session 3)
DESCRIPTION:
URL:https://masonmusic.com/event/summer-music-camp-for-beginners-session-3/2023-06-27/
LOCATION:Mason Music Cahaba Heights\, 3187 Cahaba Heights Road\, Birmingham\, AL\, 35243\, United States
ATTACH;FMTTYPE=image/png:https://masonmusic.com/wp-content/uploads/InstagramPost-3.png
END:VEVENT
BEGIN:VEVENT
DTSTART;TZID=America/Chicago:20230626T083000
DTEND;TZID=America/Chicago:20230626T113000
DTSTAMP:20260422T172458
CREATED:20230327T170742Z
LAST-MODIFIED:20230424T211548Z
UID:10001567-1687768200-1687779000@masonmusic.com
SUMMARY:Summer Music Camp for Beginners (Session 3)
DESCRIPTION:
URL:https://masonmusic.com/event/summer-music-camp-for-beginners-session-3/2023-06-26/
LOCATION:Mason Music Cahaba Heights\, 3187 Cahaba Heights Road\, Birmingham\, AL\, 35243\, United States
ATTACH;FMTTYPE=image/png:https://masonmusic.com/wp-content/uploads/InstagramPost-3.png
END:VEVENT
BEGIN:VEVENT
DTSTART;VALUE=DATE:20230626
DTEND;VALUE=DATE:20230627
DTSTAMP:20260422T172458
CREATED:20230327T173642Z
LAST-MODIFIED:20230626T135058Z
UID:10001628-1687737600-1687823999@masonmusic.com
SUMMARY:Fall 2023 Rock Band League Registration Opens
DESCRIPTION:
URL:https://masonmusic.com/event/fall-2023-rock-band-league-registration-opens/
ATTACH;FMTTYPE=image/png:https://masonmusic.com/wp-content/uploads/MM_Fall2023_RBL__Digital_IGPost_1080x1080.png
END:VEVENT
BEGIN:VEVENT
DTSTART;TZID=America/Chicago:20230623T083000
DTEND;TZID=America/Chicago:20230623T143000
DTSTAMP:20260422T172458
CREATED:20230327T172937Z
LAST-MODIFIED:20230424T211719Z
UID:10001621-1687509000-1687530600@masonmusic.com
SUMMARY:Rock Band Camp: Performance Edition
DESCRIPTION:
URL:https://masonmusic.com/event/rock-band-camp-performance-edition/2023-06-23/
LOCATION:Mason Music Cahaba Heights\, 3187 Cahaba Heights Road\, Birmingham\, AL\, 35243\, United States
ATTACH;FMTTYPE=image/png:https://masonmusic.com/wp-content/uploads/InstagramPost-6.png
END:VEVENT
BEGIN:VEVENT
DTSTART;TZID=America/Chicago:20230623T083000
DTEND;TZID=America/Chicago:20230623T113000
DTSTAMP:20260422T172458
CREATED:20230327T171752Z
LAST-MODIFIED:20230424T211809Z
UID:10001596-1687509000-1687519800@masonmusic.com
SUMMARY:Songs of the Sea Music Camp for Preschoolers (Session 2)
DESCRIPTION:
URL:https://masonmusic.com/event/songs-of-the-sea-music-camp-for-preschoolers-session-2-2/2023-06-23/
LOCATION:Mason Music Mountain Brook\, 2903 Cahaba Road\, Birmingham\, AL\, 35223\, United States
ATTACH;FMTTYPE=image/png:https://masonmusic.com/wp-content/uploads/InstagramPost-2.png
END:VEVENT
BEGIN:VEVENT
DTSTART;TZID=America/Chicago:20230622T130000
DTEND;TZID=America/Chicago:20230622T140000
DTSTAMP:20260422T172458
CREATED:20230407T155748Z
LAST-MODIFIED:20230426T142051Z
UID:10001670-1687438800-1687442400@masonmusic.com
SUMMARY:Munchkin Music: Mountain Brook
DESCRIPTION:
URL:https://masonmusic.com/event/munchkin-music-session-2-2/2023-06-22/
LOCATION:Mason Music Mountain Brook\, 2903 Cahaba Road\, Birmingham\, AL\, 35223\, United States
ATTACH;FMTTYPE=image/png:https://masonmusic.com/wp-content/uploads/InstagramPost-8.png
END:VEVENT
BEGIN:VEVENT
DTSTART;TZID=America/Chicago:20230622T083000
DTEND;TZID=America/Chicago:20230622T143000
DTSTAMP:20260422T172458
CREATED:20230327T172937Z
LAST-MODIFIED:20230424T211719Z
UID:10001620-1687422600-1687444200@masonmusic.com
SUMMARY:Rock Band Camp: Performance Edition
DESCRIPTION:
URL:https://masonmusic.com/event/rock-band-camp-performance-edition/2023-06-22/
LOCATION:Mason Music Cahaba Heights\, 3187 Cahaba Heights Road\, Birmingham\, AL\, 35243\, United States
ATTACH;FMTTYPE=image/png:https://masonmusic.com/wp-content/uploads/InstagramPost-6.png
END:VEVENT
BEGIN:VEVENT
DTSTART;TZID=America/Chicago:20230622T083000
DTEND;TZID=America/Chicago:20230622T113000
DTSTAMP:20260422T172458
CREATED:20230327T171752Z
LAST-MODIFIED:20230424T211809Z
UID:10001595-1687422600-1687433400@masonmusic.com
SUMMARY:Songs of the Sea Music Camp for Preschoolers (Session 2)
DESCRIPTION:
URL:https://masonmusic.com/event/songs-of-the-sea-music-camp-for-preschoolers-session-2-2/2023-06-22/
LOCATION:Mason Music Mountain Brook\, 2903 Cahaba Road\, Birmingham\, AL\, 35223\, United States
ATTACH;FMTTYPE=image/png:https://masonmusic.com/wp-content/uploads/InstagramPost-2.png
END:VEVENT
BEGIN:VEVENT
DTSTART;TZID=America/Chicago:20230621T083000
DTEND;TZID=America/Chicago:20230621T143000
DTSTAMP:20260422T172458
CREATED:20230327T172937Z
LAST-MODIFIED:20230424T211719Z
UID:10001619-1687336200-1687357800@masonmusic.com
SUMMARY:Rock Band Camp: Performance Edition
DESCRIPTION:
URL:https://masonmusic.com/event/rock-band-camp-performance-edition/2023-06-21/
LOCATION:Mason Music Cahaba Heights\, 3187 Cahaba Heights Road\, Birmingham\, AL\, 35243\, United States
ATTACH;FMTTYPE=image/png:https://masonmusic.com/wp-content/uploads/InstagramPost-6.png
END:VEVENT
BEGIN:VEVENT
DTSTART;TZID=America/Chicago:20230621T083000
DTEND;TZID=America/Chicago:20230621T113000
DTSTAMP:20260422T172458
CREATED:20230327T171752Z
LAST-MODIFIED:20230424T211809Z
UID:10001594-1687336200-1687347000@masonmusic.com
SUMMARY:Songs of the Sea Music Camp for Preschoolers (Session 2)
DESCRIPTION:
URL:https://masonmusic.com/event/songs-of-the-sea-music-camp-for-preschoolers-session-2-2/2023-06-21/
LOCATION:Mason Music Mountain Brook\, 2903 Cahaba Road\, Birmingham\, AL\, 35223\, United States
ATTACH;FMTTYPE=image/png:https://masonmusic.com/wp-content/uploads/InstagramPost-2.png
END:VEVENT
BEGIN:VEVENT
DTSTART;TZID=America/Chicago:20230620T083000
DTEND;TZID=America/Chicago:20230620T143000
DTSTAMP:20260422T172458
CREATED:20230327T172937Z
LAST-MODIFIED:20230424T211719Z
UID:10001618-1687249800-1687271400@masonmusic.com
SUMMARY:Rock Band Camp: Performance Edition
DESCRIPTION:
URL:https://masonmusic.com/event/rock-band-camp-performance-edition/2023-06-20/
LOCATION:Mason Music Cahaba Heights\, 3187 Cahaba Heights Road\, Birmingham\, AL\, 35243\, United States
ATTACH;FMTTYPE=image/png:https://masonmusic.com/wp-content/uploads/InstagramPost-6.png
END:VEVENT
BEGIN:VEVENT
DTSTART;TZID=America/Chicago:20230620T083000
DTEND;TZID=America/Chicago:20230620T113000
DTSTAMP:20260422T172458
CREATED:20230327T171752Z
LAST-MODIFIED:20230424T211809Z
UID:10001593-1687249800-1687260600@masonmusic.com
SUMMARY:Songs of the Sea Music Camp for Preschoolers (Session 2)
DESCRIPTION:
URL:https://masonmusic.com/event/songs-of-the-sea-music-camp-for-preschoolers-session-2-2/2023-06-20/
LOCATION:Mason Music Mountain Brook\, 2903 Cahaba Road\, Birmingham\, AL\, 35223\, United States
ATTACH;FMTTYPE=image/png:https://masonmusic.com/wp-content/uploads/InstagramPost-2.png
END:VEVENT
BEGIN:VEVENT
DTSTART;TZID=America/Chicago:20230619T083000
DTEND;TZID=America/Chicago:20230619T143000
DTSTAMP:20260422T172458
CREATED:20230327T172937Z
LAST-MODIFIED:20230424T211719Z
UID:10001617-1687163400-1687185000@masonmusic.com
SUMMARY:Rock Band Camp: Performance Edition
DESCRIPTION:
URL:https://masonmusic.com/event/rock-band-camp-performance-edition/2023-06-19/
LOCATION:Mason Music Cahaba Heights\, 3187 Cahaba Heights Road\, Birmingham\, AL\, 35243\, United States
ATTACH;FMTTYPE=image/png:https://masonmusic.com/wp-content/uploads/InstagramPost-6.png
END:VEVENT
BEGIN:VEVENT
DTSTART;TZID=America/Chicago:20230619T083000
DTEND;TZID=America/Chicago:20230619T113000
DTSTAMP:20260422T172458
CREATED:20230327T171752Z
LAST-MODIFIED:20230424T211809Z
UID:10001592-1687163400-1687174200@masonmusic.com
SUMMARY:Songs of the Sea Music Camp for Preschoolers (Session 2)
DESCRIPTION:
URL:https://masonmusic.com/event/songs-of-the-sea-music-camp-for-preschoolers-session-2-2/2023-06-19/
LOCATION:Mason Music Mountain Brook\, 2903 Cahaba Road\, Birmingham\, AL\, 35223\, United States
ATTACH;FMTTYPE=image/png:https://masonmusic.com/wp-content/uploads/InstagramPost-2.png
END:VEVENT
BEGIN:VEVENT
DTSTART;VALUE=DATE:20230619
DTEND;VALUE=DATE:20230624
DTSTAMP:20260422T172458
CREATED:20230327T160026Z
LAST-MODIFIED:20230424T211853Z
UID:10001719-1687132800-1687564799@masonmusic.com
SUMMARY:Songs of the Sea Music Camp For Preschoolers (Session 2)
DESCRIPTION:
URL:https://masonmusic.com/event/songs-of-the-sea-music-camp-for-preschoolers-session-2/
LOCATION:Mason Music Mountain Brook\, 2903 Cahaba Road\, Birmingham\, AL\, 35223\, United States
ATTACH;FMTTYPE=image/png:https://masonmusic.com/wp-content/uploads/InstagramPost-2.png
END:VEVENT
BEGIN:VEVENT
DTSTART;VALUE=DATE:20230619
DTEND;VALUE=DATE:20230620
DTSTAMP:20260422T172458
CREATED:20230327T155433Z
LAST-MODIFIED:20230327T155437Z
UID:10000020-1687132800-1687219199@masonmusic.com
SUMMARY:Juneteenth (No Lessons)
DESCRIPTION:
URL:https://masonmusic.com/event/juneteenth-no-lessons/
END:VEVENT
BEGIN:VEVENT
DTSTART;TZID=America/Chicago:20230616T083000
DTEND;TZID=America/Chicago:20230616T113000
DTSTAMP:20260422T172458
CREATED:20230327T172335Z
LAST-MODIFIED:20230424T211946Z
UID:10001611-1686904200-1686915000@masonmusic.com
SUMMARY:Guitar Camp for Beginners
DESCRIPTION:
URL:https://masonmusic.com/event/guitar-camp-for-beginners/2023-06-16/
LOCATION:Mason Music Cahaba Heights\, 3187 Cahaba Heights Road\, Birmingham\, AL\, 35243\, United States
ATTACH;FMTTYPE=image/png:https://masonmusic.com/wp-content/uploads/InstagramPost-4.png
END:VEVENT
BEGIN:VEVENT
DTSTART;TZID=America/Chicago:20230616T083000
DTEND;TZID=America/Chicago:20230616T113000
DTSTAMP:20260422T172458
CREATED:20230327T153952Z
LAST-MODIFIED:20230424T212049Z
UID:10001552-1686904200-1686915000@masonmusic.com
SUMMARY:Summer Music Camp for Beginners (Session 2)
DESCRIPTION:
URL:https://masonmusic.com/event/summer-music-camp-for-beginners-session-2-mb/2023-06-16/
LOCATION:Mason Music Mountain Brook\, 2903 Cahaba Road\, Birmingham\, AL\, 35223\, United States
ATTACH;FMTTYPE=image/png:https://masonmusic.com/wp-content/uploads/InstagramPost-3.png
END:VEVENT
BEGIN:VEVENT
DTSTART;TZID=America/Chicago:20230615T130000
DTEND;TZID=America/Chicago:20230615T140000
DTSTAMP:20260422T172458
CREATED:20230407T155748Z
LAST-MODIFIED:20230426T142051Z
UID:10001669-1686834000-1686837600@masonmusic.com
SUMMARY:Munchkin Music: Mountain Brook
DESCRIPTION:
URL:https://masonmusic.com/event/munchkin-music-session-2-2/2023-06-15/
LOCATION:Mason Music Mountain Brook\, 2903 Cahaba Road\, Birmingham\, AL\, 35223\, United States
ATTACH;FMTTYPE=image/png:https://masonmusic.com/wp-content/uploads/InstagramPost-8.png
END:VEVENT
BEGIN:VEVENT
DTSTART;TZID=America/Chicago:20230615T083000
DTEND;TZID=America/Chicago:20230615T113000
DTSTAMP:20260422T172458
CREATED:20230327T172335Z
LAST-MODIFIED:20230424T211946Z
UID:10001610-1686817800-1686828600@masonmusic.com
SUMMARY:Guitar Camp for Beginners
DESCRIPTION:
URL:https://masonmusic.com/event/guitar-camp-for-beginners/2023-06-15/
LOCATION:Mason Music Cahaba Heights\, 3187 Cahaba Heights Road\, Birmingham\, AL\, 35243\, United States
ATTACH;FMTTYPE=image/png:https://masonmusic.com/wp-content/uploads/InstagramPost-4.png
END:VEVENT
BEGIN:VEVENT
DTSTART;TZID=America/Chicago:20230615T083000
DTEND;TZID=America/Chicago:20230615T113000
DTSTAMP:20260422T172458
CREATED:20230327T153952Z
LAST-MODIFIED:20230424T212049Z
UID:10001551-1686817800-1686828600@masonmusic.com
SUMMARY:Summer Music Camp for Beginners (Session 2)
DESCRIPTION:
URL:https://masonmusic.com/event/summer-music-camp-for-beginners-session-2-mb/2023-06-15/
LOCATION:Mason Music Mountain Brook\, 2903 Cahaba Road\, Birmingham\, AL\, 35223\, United States
ATTACH;FMTTYPE=image/png:https://masonmusic.com/wp-content/uploads/InstagramPost-3.png
END:VEVENT
BEGIN:VEVENT
DTSTART;TZID=America/Chicago:20230614T083000
DTEND;TZID=America/Chicago:20230614T113000
DTSTAMP:20260422T172458
CREATED:20230327T172335Z
LAST-MODIFIED:20230424T211946Z
UID:10001609-1686731400-1686742200@masonmusic.com
SUMMARY:Guitar Camp for Beginners
DESCRIPTION:
URL:https://masonmusic.com/event/guitar-camp-for-beginners/2023-06-14/
LOCATION:Mason Music Cahaba Heights\, 3187 Cahaba Heights Road\, Birmingham\, AL\, 35243\, United States
ATTACH;FMTTYPE=image/png:https://masonmusic.com/wp-content/uploads/InstagramPost-4.png
END:VEVENT
END:VCALENDAR