BEGIN:VCALENDAR
VERSION:2.0
PRODID:-//Mason Music - ECPv6.3.7//NONSGML v1.0//EN
CALSCALE:GREGORIAN
METHOD:PUBLISH
X-WR-CALNAME:Mason Music
X-ORIGINAL-URL:https://masonmusic.com
X-WR-CALDESC:Events for Mason Music
REFRESH-INTERVAL;VALUE=DURATION:PT1H
X-Robots-Tag:noindex
X-PUBLISHED-TTL:PT1H
BEGIN:VTIMEZONE
TZID:America/Chicago
BEGIN:DAYLIGHT
TZOFFSETFROM:-0600
TZOFFSETTO:-0500
TZNAME:CDT
DTSTART:20230312T080000
END:DAYLIGHT
BEGIN:STANDARD
TZOFFSETFROM:-0500
TZOFFSETTO:-0600
TZNAME:CST
DTSTART:20231105T070000
END:STANDARD
END:VTIMEZONE
BEGIN:VEVENT
DTSTART;TZID=America/Chicago:20230616T083000
DTEND;TZID=America/Chicago:20230616T113000
DTSTAMP:20260421T193139
CREATED:20230327T172335Z
LAST-MODIFIED:20230424T211946Z
UID:10001611-1686904200-1686915000@masonmusic.com
SUMMARY:Guitar Camp for Beginners
DESCRIPTION:
URL:https://masonmusic.com/event/guitar-camp-for-beginners/2023-06-16/
LOCATION:Mason Music Cahaba Heights\, 3187 Cahaba Heights Road\, Birmingham\, AL\, 35243\, United States
ATTACH;FMTTYPE=image/png:https://masonmusic.com/wp-content/uploads/InstagramPost-4.png
END:VEVENT
BEGIN:VEVENT
DTSTART;TZID=America/Chicago:20230616T083000
DTEND;TZID=America/Chicago:20230616T113000
DTSTAMP:20260421T193139
CREATED:20230327T153952Z
LAST-MODIFIED:20230424T212049Z
UID:10001552-1686904200-1686915000@masonmusic.com
SUMMARY:Summer Music Camp for Beginners (Session 2)
DESCRIPTION:
URL:https://masonmusic.com/event/summer-music-camp-for-beginners-session-2-mb/2023-06-16/
LOCATION:Mason Music Mountain Brook\, 2903 Cahaba Road\, Birmingham\, AL\, 35223\, United States
ATTACH;FMTTYPE=image/png:https://masonmusic.com/wp-content/uploads/InstagramPost-3.png
END:VEVENT
BEGIN:VEVENT
DTSTART;TZID=America/Chicago:20230615T130000
DTEND;TZID=America/Chicago:20230615T140000
DTSTAMP:20260421T193139
CREATED:20230407T155748Z
LAST-MODIFIED:20230426T142051Z
UID:10001669-1686834000-1686837600@masonmusic.com
SUMMARY:Munchkin Music: Mountain Brook
DESCRIPTION:
URL:https://masonmusic.com/event/munchkin-music-session-2-2/2023-06-15/
LOCATION:Mason Music Mountain Brook\, 2903 Cahaba Road\, Birmingham\, AL\, 35223\, United States
ATTACH;FMTTYPE=image/png:https://masonmusic.com/wp-content/uploads/InstagramPost-8.png
END:VEVENT
BEGIN:VEVENT
DTSTART;TZID=America/Chicago:20230615T083000
DTEND;TZID=America/Chicago:20230615T113000
DTSTAMP:20260421T193139
CREATED:20230327T172335Z
LAST-MODIFIED:20230424T211946Z
UID:10001610-1686817800-1686828600@masonmusic.com
SUMMARY:Guitar Camp for Beginners
DESCRIPTION:
URL:https://masonmusic.com/event/guitar-camp-for-beginners/2023-06-15/
LOCATION:Mason Music Cahaba Heights\, 3187 Cahaba Heights Road\, Birmingham\, AL\, 35243\, United States
ATTACH;FMTTYPE=image/png:https://masonmusic.com/wp-content/uploads/InstagramPost-4.png
END:VEVENT
BEGIN:VEVENT
DTSTART;TZID=America/Chicago:20230615T083000
DTEND;TZID=America/Chicago:20230615T113000
DTSTAMP:20260421T193139
CREATED:20230327T153952Z
LAST-MODIFIED:20230424T212049Z
UID:10001551-1686817800-1686828600@masonmusic.com
SUMMARY:Summer Music Camp for Beginners (Session 2)
DESCRIPTION:
URL:https://masonmusic.com/event/summer-music-camp-for-beginners-session-2-mb/2023-06-15/
LOCATION:Mason Music Mountain Brook\, 2903 Cahaba Road\, Birmingham\, AL\, 35223\, United States
ATTACH;FMTTYPE=image/png:https://masonmusic.com/wp-content/uploads/InstagramPost-3.png
END:VEVENT
BEGIN:VEVENT
DTSTART;TZID=America/Chicago:20230614T083000
DTEND;TZID=America/Chicago:20230614T113000
DTSTAMP:20260421T193139
CREATED:20230327T172335Z
LAST-MODIFIED:20230424T211946Z
UID:10001609-1686731400-1686742200@masonmusic.com
SUMMARY:Guitar Camp for Beginners
DESCRIPTION:
URL:https://masonmusic.com/event/guitar-camp-for-beginners/2023-06-14/
LOCATION:Mason Music Cahaba Heights\, 3187 Cahaba Heights Road\, Birmingham\, AL\, 35243\, United States
ATTACH;FMTTYPE=image/png:https://masonmusic.com/wp-content/uploads/InstagramPost-4.png
END:VEVENT
BEGIN:VEVENT
DTSTART;TZID=America/Chicago:20230614T083000
DTEND;TZID=America/Chicago:20230614T113000
DTSTAMP:20260421T193139
CREATED:20230327T153952Z
LAST-MODIFIED:20230424T212049Z
UID:10001550-1686731400-1686742200@masonmusic.com
SUMMARY:Summer Music Camp for Beginners (Session 2)
DESCRIPTION:
URL:https://masonmusic.com/event/summer-music-camp-for-beginners-session-2-mb/2023-06-14/
LOCATION:Mason Music Mountain Brook\, 2903 Cahaba Road\, Birmingham\, AL\, 35223\, United States
ATTACH;FMTTYPE=image/png:https://masonmusic.com/wp-content/uploads/InstagramPost-3.png
END:VEVENT
BEGIN:VEVENT
DTSTART;TZID=America/Chicago:20230613T083000
DTEND;TZID=America/Chicago:20230613T113000
DTSTAMP:20260421T193139
CREATED:20230327T172335Z
LAST-MODIFIED:20230424T211946Z
UID:10001608-1686645000-1686655800@masonmusic.com
SUMMARY:Guitar Camp for Beginners
DESCRIPTION:
URL:https://masonmusic.com/event/guitar-camp-for-beginners/2023-06-13/
LOCATION:Mason Music Cahaba Heights\, 3187 Cahaba Heights Road\, Birmingham\, AL\, 35243\, United States
ATTACH;FMTTYPE=image/png:https://masonmusic.com/wp-content/uploads/InstagramPost-4.png
END:VEVENT
BEGIN:VEVENT
DTSTART;TZID=America/Chicago:20230613T083000
DTEND;TZID=America/Chicago:20230613T113000
DTSTAMP:20260421T193139
CREATED:20230327T153952Z
LAST-MODIFIED:20230424T212049Z
UID:10001549-1686645000-1686655800@masonmusic.com
SUMMARY:Summer Music Camp for Beginners (Session 2)
DESCRIPTION:
URL:https://masonmusic.com/event/summer-music-camp-for-beginners-session-2-mb/2023-06-13/
LOCATION:Mason Music Mountain Brook\, 2903 Cahaba Road\, Birmingham\, AL\, 35223\, United States
ATTACH;FMTTYPE=image/png:https://masonmusic.com/wp-content/uploads/InstagramPost-3.png
END:VEVENT
BEGIN:VEVENT
DTSTART;TZID=America/Chicago:20230612T083000
DTEND;TZID=America/Chicago:20230612T113000
DTSTAMP:20260421T193139
CREATED:20230327T172335Z
LAST-MODIFIED:20230424T211946Z
UID:10001607-1686558600-1686569400@masonmusic.com
SUMMARY:Guitar Camp for Beginners
DESCRIPTION:
URL:https://masonmusic.com/event/guitar-camp-for-beginners/2023-06-12/
LOCATION:Mason Music Cahaba Heights\, 3187 Cahaba Heights Road\, Birmingham\, AL\, 35243\, United States
ATTACH;FMTTYPE=image/png:https://masonmusic.com/wp-content/uploads/InstagramPost-4.png
END:VEVENT
BEGIN:VEVENT
DTSTART;TZID=America/Chicago:20230612T083000
DTEND;TZID=America/Chicago:20230612T113000
DTSTAMP:20260421T193139
CREATED:20230327T153952Z
LAST-MODIFIED:20230424T212049Z
UID:10001548-1686558600-1686569400@masonmusic.com
SUMMARY:Summer Music Camp for Beginners (Session 2)
DESCRIPTION:
URL:https://masonmusic.com/event/summer-music-camp-for-beginners-session-2-mb/2023-06-12/
LOCATION:Mason Music Mountain Brook\, 2903 Cahaba Road\, Birmingham\, AL\, 35223\, United States
ATTACH;FMTTYPE=image/png:https://masonmusic.com/wp-content/uploads/InstagramPost-3.png
END:VEVENT
BEGIN:VEVENT
DTSTART;TZID=America/Chicago:20230609T083000
DTEND;TZID=America/Chicago:20230609T113000
DTSTAMP:20260421T193139
CREATED:20230327T171546Z
LAST-MODIFIED:20230424T212209Z
UID:10001591-1686299400-1686310200@masonmusic.com
SUMMARY:Songs of the Sea Music Camp for Preschoolers (Session 1)
DESCRIPTION:
URL:https://masonmusic.com/event/songs-of-the-sea-music-camp-for-preschoolers-session-1-2/2023-06-09/
LOCATION:Mason Music Cahaba Heights\, 3187 Cahaba Heights Road\, Birmingham\, AL\, 35243\, United States
ATTACH;FMTTYPE=image/png:https://masonmusic.com/wp-content/uploads/TVSlide-8.png
END:VEVENT
BEGIN:VEVENT
DTSTART;TZID=America/Chicago:20230609T083000
DTEND;TZID=America/Chicago:20230609T113000
DTSTAMP:20260421T193139
CREATED:20230327T153821Z
LAST-MODIFIED:20230424T212333Z
UID:10000796-1686299400-1686310200@masonmusic.com
SUMMARY:Summer Music Camp for Beginners  (Session 1)
DESCRIPTION:
URL:https://masonmusic.com/event/summer-music-camp-for-beginners-session-1-gs/2023-06-09/
LOCATION:Mason Music Greystone\, 5406 Hwy 280 E\, Birmingham\, AL\, 35242\, United States
ATTACH;FMTTYPE=image/png:https://masonmusic.com/wp-content/uploads/InstagramPost-3.png
END:VEVENT
BEGIN:VEVENT
DTSTART;TZID=America/Chicago:20230608T130000
DTEND;TZID=America/Chicago:20230608T140000
DTSTAMP:20260421T193139
CREATED:20230407T155748Z
LAST-MODIFIED:20230426T142051Z
UID:10001668-1686229200-1686232800@masonmusic.com
SUMMARY:Munchkin Music: Mountain Brook
DESCRIPTION:
URL:https://masonmusic.com/event/munchkin-music-session-2-2/2023-06-08/
LOCATION:Mason Music Mountain Brook\, 2903 Cahaba Road\, Birmingham\, AL\, 35223\, United States
ATTACH;FMTTYPE=image/png:https://masonmusic.com/wp-content/uploads/InstagramPost-8.png
END:VEVENT
BEGIN:VEVENT
DTSTART;TZID=America/Chicago:20230608T083000
DTEND;TZID=America/Chicago:20230608T113000
DTSTAMP:20260421T193139
CREATED:20230327T171546Z
LAST-MODIFIED:20230424T212209Z
UID:10001590-1686213000-1686223800@masonmusic.com
SUMMARY:Songs of the Sea Music Camp for Preschoolers (Session 1)
DESCRIPTION:
URL:https://masonmusic.com/event/songs-of-the-sea-music-camp-for-preschoolers-session-1-2/2023-06-08/
LOCATION:Mason Music Cahaba Heights\, 3187 Cahaba Heights Road\, Birmingham\, AL\, 35243\, United States
ATTACH;FMTTYPE=image/png:https://masonmusic.com/wp-content/uploads/TVSlide-8.png
END:VEVENT
BEGIN:VEVENT
DTSTART;TZID=America/Chicago:20230608T083000
DTEND;TZID=America/Chicago:20230608T113000
DTSTAMP:20260421T193139
CREATED:20230327T153821Z
LAST-MODIFIED:20230424T212333Z
UID:10000795-1686213000-1686223800@masonmusic.com
SUMMARY:Summer Music Camp for Beginners  (Session 1)
DESCRIPTION:
URL:https://masonmusic.com/event/summer-music-camp-for-beginners-session-1-gs/2023-06-08/
LOCATION:Mason Music Greystone\, 5406 Hwy 280 E\, Birmingham\, AL\, 35242\, United States
ATTACH;FMTTYPE=image/png:https://masonmusic.com/wp-content/uploads/InstagramPost-3.png
END:VEVENT
BEGIN:VEVENT
DTSTART;TZID=America/Chicago:20230607T083000
DTEND;TZID=America/Chicago:20230607T113000
DTSTAMP:20260421T193139
CREATED:20230327T171546Z
LAST-MODIFIED:20230424T212209Z
UID:10001589-1686126600-1686137400@masonmusic.com
SUMMARY:Songs of the Sea Music Camp for Preschoolers (Session 1)
DESCRIPTION:
URL:https://masonmusic.com/event/songs-of-the-sea-music-camp-for-preschoolers-session-1-2/2023-06-07/
LOCATION:Mason Music Cahaba Heights\, 3187 Cahaba Heights Road\, Birmingham\, AL\, 35243\, United States
ATTACH;FMTTYPE=image/png:https://masonmusic.com/wp-content/uploads/TVSlide-8.png
END:VEVENT
BEGIN:VEVENT
DTSTART;TZID=America/Chicago:20230607T083000
DTEND;TZID=America/Chicago:20230607T113000
DTSTAMP:20260421T193139
CREATED:20230327T153821Z
LAST-MODIFIED:20230424T212333Z
UID:10000794-1686126600-1686137400@masonmusic.com
SUMMARY:Summer Music Camp for Beginners  (Session 1)
DESCRIPTION:
URL:https://masonmusic.com/event/summer-music-camp-for-beginners-session-1-gs/2023-06-07/
LOCATION:Mason Music Greystone\, 5406 Hwy 280 E\, Birmingham\, AL\, 35242\, United States
ATTACH;FMTTYPE=image/png:https://masonmusic.com/wp-content/uploads/InstagramPost-3.png
END:VEVENT
BEGIN:VEVENT
DTSTART;TZID=America/Chicago:20230606T083000
DTEND;TZID=America/Chicago:20230606T113000
DTSTAMP:20260421T193139
CREATED:20230327T171546Z
LAST-MODIFIED:20230424T212209Z
UID:10001588-1686040200-1686051000@masonmusic.com
SUMMARY:Songs of the Sea Music Camp for Preschoolers (Session 1)
DESCRIPTION:
URL:https://masonmusic.com/event/songs-of-the-sea-music-camp-for-preschoolers-session-1-2/2023-06-06/
LOCATION:Mason Music Cahaba Heights\, 3187 Cahaba Heights Road\, Birmingham\, AL\, 35243\, United States
ATTACH;FMTTYPE=image/png:https://masonmusic.com/wp-content/uploads/TVSlide-8.png
END:VEVENT
BEGIN:VEVENT
DTSTART;TZID=America/Chicago:20230606T083000
DTEND;TZID=America/Chicago:20230606T113000
DTSTAMP:20260421T193139
CREATED:20230327T153821Z
LAST-MODIFIED:20230424T212333Z
UID:10000793-1686040200-1686051000@masonmusic.com
SUMMARY:Summer Music Camp for Beginners  (Session 1)
DESCRIPTION:
URL:https://masonmusic.com/event/summer-music-camp-for-beginners-session-1-gs/2023-06-06/
LOCATION:Mason Music Greystone\, 5406 Hwy 280 E\, Birmingham\, AL\, 35242\, United States
ATTACH;FMTTYPE=image/png:https://masonmusic.com/wp-content/uploads/InstagramPost-3.png
END:VEVENT
BEGIN:VEVENT
DTSTART;TZID=America/Chicago:20230605T083000
DTEND;TZID=America/Chicago:20230605T113000
DTSTAMP:20260421T193139
CREATED:20230327T171546Z
LAST-MODIFIED:20230424T212209Z
UID:10001587-1685953800-1685964600@masonmusic.com
SUMMARY:Songs of the Sea Music Camp for Preschoolers (Session 1)
DESCRIPTION:
URL:https://masonmusic.com/event/songs-of-the-sea-music-camp-for-preschoolers-session-1-2/2023-06-05/
LOCATION:Mason Music Cahaba Heights\, 3187 Cahaba Heights Road\, Birmingham\, AL\, 35243\, United States
ATTACH;FMTTYPE=image/png:https://masonmusic.com/wp-content/uploads/TVSlide-8.png
END:VEVENT
BEGIN:VEVENT
DTSTART;TZID=America/Chicago:20230605T083000
DTEND;TZID=America/Chicago:20230605T113000
DTSTAMP:20260421T193139
CREATED:20230327T153821Z
LAST-MODIFIED:20230424T212333Z
UID:10000792-1685953800-1685964600@masonmusic.com
SUMMARY:Summer Music Camp for Beginners  (Session 1)
DESCRIPTION:
URL:https://masonmusic.com/event/summer-music-camp-for-beginners-session-1-gs/2023-06-05/
LOCATION:Mason Music Greystone\, 5406 Hwy 280 E\, Birmingham\, AL\, 35242\, United States
ATTACH;FMTTYPE=image/png:https://masonmusic.com/wp-content/uploads/InstagramPost-3.png
END:VEVENT
BEGIN:VEVENT
DTSTART;VALUE=DATE:20230605
DTEND;VALUE=DATE:20230610
DTSTAMP:20260421T193139
CREATED:20230327T153627Z
LAST-MODIFIED:20230424T212428Z
UID:10001720-1685923200-1686355199@masonmusic.com
SUMMARY:Songs of the Sea Music Camp For Preschoolers (Session 1 CH)
DESCRIPTION:
URL:https://masonmusic.com/event/songs-of-the-sea-music-camp-for-preschoolers-session-1/
LOCATION:AL
ATTACH;FMTTYPE=image/png:https://masonmusic.com/wp-content/uploads/InstagramPost-2.png
END:VEVENT
BEGIN:VEVENT
DTSTART;TZID=America/Chicago:20230602T083000
DTEND;TZID=America/Chicago:20230602T113000
DTSTAMP:20260421T193139
CREATED:20230327T170526Z
LAST-MODIFIED:20230424T212519Z
UID:10001566-1685694600-1685705400@masonmusic.com
SUMMARY:Summer Ukulele Camp for Beginners
DESCRIPTION:
URL:https://masonmusic.com/event/summer-ukulele-camp-for-beginners/2023-06-02/
LOCATION:Mason Music Bluff Park\, 761 Shades Mountain Plaza\, Hoover\, AL\, 35226\, United States
ATTACH;FMTTYPE=image/png:https://masonmusic.com/wp-content/uploads/TVSlide-4.png
END:VEVENT
BEGIN:VEVENT
DTSTART;TZID=America/Chicago:20230601T130000
DTEND;TZID=America/Chicago:20230601T140000
DTSTAMP:20260421T193139
CREATED:20230407T155748Z
LAST-MODIFIED:20230426T142051Z
UID:10001667-1685624400-1685628000@masonmusic.com
SUMMARY:Munchkin Music: Mountain Brook
DESCRIPTION:
URL:https://masonmusic.com/event/munchkin-music-session-2-2/2023-06-01/
LOCATION:Mason Music Mountain Brook\, 2903 Cahaba Road\, Birmingham\, AL\, 35223\, United States
ATTACH;FMTTYPE=image/png:https://masonmusic.com/wp-content/uploads/InstagramPost-8.png
END:VEVENT
BEGIN:VEVENT
DTSTART;TZID=America/Chicago:20230601T083000
DTEND;TZID=America/Chicago:20230601T113000
DTSTAMP:20260421T193139
CREATED:20230327T170526Z
LAST-MODIFIED:20230424T212519Z
UID:10001565-1685608200-1685619000@masonmusic.com
SUMMARY:Summer Ukulele Camp for Beginners
DESCRIPTION:
URL:https://masonmusic.com/event/summer-ukulele-camp-for-beginners/2023-06-01/
LOCATION:Mason Music Bluff Park\, 761 Shades Mountain Plaza\, Hoover\, AL\, 35226\, United States
ATTACH;FMTTYPE=image/png:https://masonmusic.com/wp-content/uploads/TVSlide-4.png
END:VEVENT
BEGIN:VEVENT
DTSTART;TZID=America/Chicago:20230531T083000
DTEND;TZID=America/Chicago:20230531T113000
DTSTAMP:20260421T193139
CREATED:20230327T170526Z
LAST-MODIFIED:20230424T212519Z
UID:10001564-1685521800-1685532600@masonmusic.com
SUMMARY:Summer Ukulele Camp for Beginners
DESCRIPTION:
URL:https://masonmusic.com/event/summer-ukulele-camp-for-beginners/2023-05-31/
LOCATION:Mason Music Bluff Park\, 761 Shades Mountain Plaza\, Hoover\, AL\, 35226\, United States
ATTACH;FMTTYPE=image/png:https://masonmusic.com/wp-content/uploads/TVSlide-4.png
END:VEVENT
BEGIN:VEVENT
DTSTART;TZID=America/Chicago:20230530T083000
DTEND;TZID=America/Chicago:20230530T113000
DTSTAMP:20260421T193139
CREATED:20230327T170526Z
LAST-MODIFIED:20230424T212519Z
UID:10001563-1685435400-1685446200@masonmusic.com
SUMMARY:Summer Ukulele Camp for Beginners
DESCRIPTION:
URL:https://masonmusic.com/event/summer-ukulele-camp-for-beginners/2023-05-30/
LOCATION:Mason Music Bluff Park\, 761 Shades Mountain Plaza\, Hoover\, AL\, 35226\, United States
ATTACH;FMTTYPE=image/png:https://masonmusic.com/wp-content/uploads/TVSlide-4.png
END:VEVENT
BEGIN:VEVENT
DTSTART;VALUE=DATE:20230530
DTEND;VALUE=DATE:20230806
DTSTAMP:20260421T193139
CREATED:20230327T153114Z
LAST-MODIFIED:20230327T153117Z
UID:10000014-1685404800-1691279999@masonmusic.com
SUMMARY:10 Weeks of Summer
DESCRIPTION:
URL:https://masonmusic.com/event/10-weeks-of-summer/
LOCATION:AL
END:VEVENT
BEGIN:VEVENT
DTSTART;VALUE=DATE:20230529
DTEND;VALUE=DATE:20230530
DTSTAMP:20260421T193139
CREATED:20230327T152750Z
LAST-MODIFIED:20230327T152750Z
UID:10000013-1685318400-1685404799@masonmusic.com
SUMMARY:Memorial Day: No Lessons
DESCRIPTION:
URL:https://masonmusic.com/event/memorial-day-no-lessons/
LOCATION:AL
END:VEVENT
END:VCALENDAR