BEGIN:VCALENDAR
VERSION:2.0
PRODID:-//Mason Music - ECPv6.3.7//NONSGML v1.0//EN
CALSCALE:GREGORIAN
METHOD:PUBLISH
X-WR-CALNAME:Mason Music
X-ORIGINAL-URL:https://masonmusic.com
X-WR-CALDESC:Events for Mason Music
REFRESH-INTERVAL;VALUE=DURATION:PT1H
X-Robots-Tag:noindex
X-PUBLISHED-TTL:PT1H
BEGIN:VTIMEZONE
TZID:America/Chicago
BEGIN:DAYLIGHT
TZOFFSETFROM:-0600
TZOFFSETTO:-0500
TZNAME:CDT
DTSTART:20230312T080000
END:DAYLIGHT
BEGIN:STANDARD
TZOFFSETFROM:-0500
TZOFFSETTO:-0600
TZNAME:CST
DTSTART:20231105T070000
END:STANDARD
END:VTIMEZONE
BEGIN:VEVENT
DTSTART;TZID=America/Chicago:20230411T130000
DTEND;TZID=America/Chicago:20230411T140000
DTSTAMP:20260421T213822
CREATED:20230327T152109Z
LAST-MODIFIED:20230426T142114Z
UID:10000041-1681218000-1681221600@masonmusic.com
SUMMARY:Munchkin Music: Cahaba Heights
DESCRIPTION:
URL:https://masonmusic.com/event/munchkin-music-session-2/2023-04-11/
LOCATION:Mason Music Cahaba Heights\, 3187 Cahaba Heights Road\, Birmingham\, AL\, 35243\, United States
ATTACH;FMTTYPE=image/png:https://masonmusic.com/wp-content/uploads/InstagramPost.png
END:VEVENT
BEGIN:VEVENT
DTSTART;TZID=America/Chicago:20230404T130000
DTEND;TZID=America/Chicago:20230404T140000
DTSTAMP:20260421T213823
CREATED:20230327T152109Z
LAST-MODIFIED:20230426T142114Z
UID:10000040-1680613200-1680616800@masonmusic.com
SUMMARY:Munchkin Music: Cahaba Heights
DESCRIPTION:
URL:https://masonmusic.com/event/munchkin-music-session-2/2023-04-04/
LOCATION:Mason Music Cahaba Heights\, 3187 Cahaba Heights Road\, Birmingham\, AL\, 35243\, United States
ATTACH;FMTTYPE=image/png:https://masonmusic.com/wp-content/uploads/InstagramPost.png
END:VEVENT
BEGIN:VEVENT
DTSTART;TZID=America/Chicago:20230331T130000
DTEND;TZID=America/Chicago:20230331T160000
DTSTAMP:20260421T213823
CREATED:20230327T165804Z
LAST-MODIFIED:20230426T142149Z
UID:10001562-1680267600-1680278400@masonmusic.com
SUMMARY:Spring Break Music Camp For Beginners
DESCRIPTION:
URL:https://masonmusic.com/event/spring-break-music-camp-for-beginners/2023-03-31/
LOCATION:Mason Music Cahaba Heights\, 3187 Cahaba Heights Road\, Birmingham\, AL\, 35243\, United States
ATTACH;FMTTYPE=image/png:https://masonmusic.com/wp-content/uploads/MM_SB-CombinedCamp_Digital_InstagramPost.png
END:VEVENT
BEGIN:VEVENT
DTSTART;TZID=America/Chicago:20230331T083000
DTEND;TZID=America/Chicago:20230331T113000
DTSTAMP:20260421T213823
CREATED:20230327T165628Z
LAST-MODIFIED:20230426T142220Z
UID:10001557-1680251400-1680262200@masonmusic.com
SUMMARY:Spring Break Music Camp For Preschoolers
DESCRIPTION:
URL:https://masonmusic.com/event/spring-break-music-camp-for-preschoolers/2023-03-31/
LOCATION:Mason Music Cahaba Heights\, 3187 Cahaba Heights Road\, Birmingham\, AL\, 35243\, United States
ATTACH;FMTTYPE=image/png:https://masonmusic.com/wp-content/uploads/MM_SB-Preschool-Music_Digital_InstagramPost.png
END:VEVENT
BEGIN:VEVENT
DTSTART;TZID=America/Chicago:20230330T130000
DTEND;TZID=America/Chicago:20230330T160000
DTSTAMP:20260421T213823
CREATED:20230327T165804Z
LAST-MODIFIED:20230426T142149Z
UID:10001561-1680181200-1680192000@masonmusic.com
SUMMARY:Spring Break Music Camp For Beginners
DESCRIPTION:
URL:https://masonmusic.com/event/spring-break-music-camp-for-beginners/2023-03-30/
LOCATION:Mason Music Cahaba Heights\, 3187 Cahaba Heights Road\, Birmingham\, AL\, 35243\, United States
ATTACH;FMTTYPE=image/png:https://masonmusic.com/wp-content/uploads/MM_SB-CombinedCamp_Digital_InstagramPost.png
END:VEVENT
BEGIN:VEVENT
DTSTART;TZID=America/Chicago:20230330T083000
DTEND;TZID=America/Chicago:20230330T113000
DTSTAMP:20260421T213823
CREATED:20230327T165628Z
LAST-MODIFIED:20230426T142220Z
UID:10001556-1680165000-1680175800@masonmusic.com
SUMMARY:Spring Break Music Camp For Preschoolers
DESCRIPTION:
URL:https://masonmusic.com/event/spring-break-music-camp-for-preschoolers/2023-03-30/
LOCATION:Mason Music Cahaba Heights\, 3187 Cahaba Heights Road\, Birmingham\, AL\, 35243\, United States
ATTACH;FMTTYPE=image/png:https://masonmusic.com/wp-content/uploads/MM_SB-Preschool-Music_Digital_InstagramPost.png
END:VEVENT
BEGIN:VEVENT
DTSTART;TZID=America/Chicago:20230329T130000
DTEND;TZID=America/Chicago:20230329T160000
DTSTAMP:20260421T213823
CREATED:20230327T165804Z
LAST-MODIFIED:20230426T142149Z
UID:10001560-1680094800-1680105600@masonmusic.com
SUMMARY:Spring Break Music Camp For Beginners
DESCRIPTION:
URL:https://masonmusic.com/event/spring-break-music-camp-for-beginners/2023-03-29/
LOCATION:Mason Music Cahaba Heights\, 3187 Cahaba Heights Road\, Birmingham\, AL\, 35243\, United States
ATTACH;FMTTYPE=image/png:https://masonmusic.com/wp-content/uploads/MM_SB-CombinedCamp_Digital_InstagramPost.png
END:VEVENT
BEGIN:VEVENT
DTSTART;TZID=America/Chicago:20230329T083000
DTEND;TZID=America/Chicago:20230329T113000
DTSTAMP:20260421T213823
CREATED:20230327T165628Z
LAST-MODIFIED:20230426T142220Z
UID:10001555-1680078600-1680089400@masonmusic.com
SUMMARY:Spring Break Music Camp For Preschoolers
DESCRIPTION:
URL:https://masonmusic.com/event/spring-break-music-camp-for-preschoolers/2023-03-29/
LOCATION:Mason Music Cahaba Heights\, 3187 Cahaba Heights Road\, Birmingham\, AL\, 35243\, United States
ATTACH;FMTTYPE=image/png:https://masonmusic.com/wp-content/uploads/MM_SB-Preschool-Music_Digital_InstagramPost.png
END:VEVENT
BEGIN:VEVENT
DTSTART;TZID=America/Chicago:20230328T130000
DTEND;TZID=America/Chicago:20230328T160000
DTSTAMP:20260421T213823
CREATED:20230327T165804Z
LAST-MODIFIED:20230426T142149Z
UID:10001559-1680008400-1680019200@masonmusic.com
SUMMARY:Spring Break Music Camp For Beginners
DESCRIPTION:
URL:https://masonmusic.com/event/spring-break-music-camp-for-beginners/2023-03-28/
LOCATION:Mason Music Cahaba Heights\, 3187 Cahaba Heights Road\, Birmingham\, AL\, 35243\, United States
ATTACH;FMTTYPE=image/png:https://masonmusic.com/wp-content/uploads/MM_SB-CombinedCamp_Digital_InstagramPost.png
END:VEVENT
BEGIN:VEVENT
DTSTART;TZID=America/Chicago:20230328T130000
DTEND;TZID=America/Chicago:20230328T140000
DTSTAMP:20260421T213823
CREATED:20230327T152109Z
LAST-MODIFIED:20230426T142114Z
UID:10000039-1680008400-1680012000@masonmusic.com
SUMMARY:Munchkin Music: Cahaba Heights
DESCRIPTION:
URL:https://masonmusic.com/event/munchkin-music-session-2/2023-03-28/
LOCATION:Mason Music Cahaba Heights\, 3187 Cahaba Heights Road\, Birmingham\, AL\, 35243\, United States
ATTACH;FMTTYPE=image/png:https://masonmusic.com/wp-content/uploads/InstagramPost.png
END:VEVENT
BEGIN:VEVENT
DTSTART;TZID=America/Chicago:20230328T083000
DTEND;TZID=America/Chicago:20230328T113000
DTSTAMP:20260421T213823
CREATED:20230327T165628Z
LAST-MODIFIED:20230426T142220Z
UID:10001554-1679992200-1680003000@masonmusic.com
SUMMARY:Spring Break Music Camp For Preschoolers
DESCRIPTION:
URL:https://masonmusic.com/event/spring-break-music-camp-for-preschoolers/2023-03-28/
LOCATION:Mason Music Cahaba Heights\, 3187 Cahaba Heights Road\, Birmingham\, AL\, 35243\, United States
ATTACH;FMTTYPE=image/png:https://masonmusic.com/wp-content/uploads/MM_SB-Preschool-Music_Digital_InstagramPost.png
END:VEVENT
BEGIN:VEVENT
DTSTART;TZID=America/Chicago:20230327T130000
DTEND;TZID=America/Chicago:20230327T160000
DTSTAMP:20260421T213823
CREATED:20230327T165804Z
LAST-MODIFIED:20230426T142149Z
UID:10001558-1679922000-1679932800@masonmusic.com
SUMMARY:Spring Break Music Camp For Beginners
DESCRIPTION:
URL:https://masonmusic.com/event/spring-break-music-camp-for-beginners/2023-03-27/
LOCATION:Mason Music Cahaba Heights\, 3187 Cahaba Heights Road\, Birmingham\, AL\, 35243\, United States
ATTACH;FMTTYPE=image/png:https://masonmusic.com/wp-content/uploads/MM_SB-CombinedCamp_Digital_InstagramPost.png
END:VEVENT
BEGIN:VEVENT
DTSTART;TZID=America/Chicago:20230327T083000
DTEND;TZID=America/Chicago:20230327T113000
DTSTAMP:20260421T213823
CREATED:20230327T165628Z
LAST-MODIFIED:20230426T142220Z
UID:10001553-1679905800-1679916600@masonmusic.com
SUMMARY:Spring Break Music Camp For Preschoolers
DESCRIPTION:
URL:https://masonmusic.com/event/spring-break-music-camp-for-preschoolers/2023-03-27/
LOCATION:Mason Music Cahaba Heights\, 3187 Cahaba Heights Road\, Birmingham\, AL\, 35243\, United States
ATTACH;FMTTYPE=image/png:https://masonmusic.com/wp-content/uploads/MM_SB-Preschool-Music_Digital_InstagramPost.png
END:VEVENT
BEGIN:VEVENT
DTSTART;TZID=America/Chicago:20230327T080000
DTEND;TZID=America/Chicago:20230401T170000
DTSTAMP:20260421T213823
CREATED:20230327T151602Z
LAST-MODIFIED:20230327T151604Z
UID:10000008-1679904000-1680368400@masonmusic.com
SUMMARY:Spring Break: No Lessons or Munchkin Music
DESCRIPTION:
URL:https://masonmusic.com/event/spring-break-no-lessons-or-munchkin-music/
LOCATION:AL
END:VEVENT
END:VCALENDAR