BEGIN:VCALENDAR
VERSION:2.0
PRODID:-//Mason Music - ECPv6.3.7//NONSGML v1.0//EN
CALSCALE:GREGORIAN
METHOD:PUBLISH
X-WR-CALNAME:Mason Music
X-ORIGINAL-URL:https://masonmusic.com
X-WR-CALDESC:Events for Mason Music
REFRESH-INTERVAL;VALUE=DURATION:PT1H
X-Robots-Tag:noindex
X-PUBLISHED-TTL:PT1H
BEGIN:VTIMEZONE
TZID:America/Chicago
BEGIN:DAYLIGHT
TZOFFSETFROM:-0600
TZOFFSETTO:-0500
TZNAME:CDT
DTSTART:20230312T080000
END:DAYLIGHT
BEGIN:STANDARD
TZOFFSETFROM:-0500
TZOFFSETTO:-0600
TZNAME:CST
DTSTART:20231105T070000
END:STANDARD
END:VTIMEZONE
BEGIN:VEVENT
DTSTART;TZID=America/Chicago:20230327T083000
DTEND;TZID=America/Chicago:20230327T113000
DTSTAMP:20260422T180635
CREATED:20230327T165628Z
LAST-MODIFIED:20230426T142220Z
UID:10001553-1679905800-1679916600@masonmusic.com
SUMMARY:Spring Break Music Camp For Preschoolers
DESCRIPTION:
URL:https://masonmusic.com/event/spring-break-music-camp-for-preschoolers/2023-03-27/
LOCATION:Mason Music Cahaba Heights\, 3187 Cahaba Heights Road\, Birmingham\, AL\, 35243\, United States
ATTACH;FMTTYPE=image/png:https://masonmusic.com/wp-content/uploads/MM_SB-Preschool-Music_Digital_InstagramPost.png
END:VEVENT
BEGIN:VEVENT
DTSTART;TZID=America/Chicago:20230327T080000
DTEND;TZID=America/Chicago:20230401T170000
DTSTAMP:20260422T180635
CREATED:20230327T151602Z
LAST-MODIFIED:20230327T151604Z
UID:10000008-1679904000-1680368400@masonmusic.com
SUMMARY:Spring Break: No Lessons or Munchkin Music
DESCRIPTION:
URL:https://masonmusic.com/event/spring-break-no-lessons-or-munchkin-music/
LOCATION:AL
END:VEVENT
END:VCALENDAR