BEGIN:VCALENDAR
VERSION:2.0
PRODID:-//Mason Music - ECPv6.3.7//NONSGML v1.0//EN
CALSCALE:GREGORIAN
METHOD:PUBLISH
X-WR-CALNAME:Mason Music
X-ORIGINAL-URL:https://masonmusic.com
X-WR-CALDESC:Events for Mason Music
REFRESH-INTERVAL;VALUE=DURATION:PT1H
X-Robots-Tag:noindex
X-PUBLISHED-TTL:PT1H
BEGIN:VTIMEZONE
TZID:America/Chicago
BEGIN:DAYLIGHT
TZOFFSETFROM:-0600
TZOFFSETTO:-0500
TZNAME:CDT
DTSTART:20230312T080000
END:DAYLIGHT
BEGIN:STANDARD
TZOFFSETFROM:-0500
TZOFFSETTO:-0600
TZNAME:CST
DTSTART:20231105T070000
END:STANDARD
BEGIN:DAYLIGHT
TZOFFSETFROM:-0600
TZOFFSETTO:-0500
TZNAME:CDT
DTSTART:20240310T080000
END:DAYLIGHT
BEGIN:STANDARD
TZOFFSETFROM:-0500
TZOFFSETTO:-0600
TZNAME:CST
DTSTART:20241103T070000
END:STANDARD
END:VTIMEZONE
BEGIN:VEVENT
DTSTART;TZID=America/Chicago:20240215T130000
DTEND;TZID=America/Chicago:20240215T140000
DTSTAMP:20260420T232427
CREATED:20230407T155748Z
LAST-MODIFIED:20230426T142051Z
UID:10001704-1708002000-1708005600@masonmusic.com
SUMMARY:Munchkin Music: Mountain Brook
DESCRIPTION:
URL:https://masonmusic.com/event/munchkin-music-session-2-2/2024-02-15/
LOCATION:Mason Music Mountain Brook\, 2903 Cahaba Road\, Birmingham\, AL\, 35223\, United States
ATTACH;FMTTYPE=image/png:https://masonmusic.com/wp-content/uploads/InstagramPost-8.png
END:VEVENT
BEGIN:VEVENT
DTSTART;TZID=America/Chicago:20240208T130000
DTEND;TZID=America/Chicago:20240208T140000
DTSTAMP:20260420T232427
CREATED:20230407T155748Z
LAST-MODIFIED:20230426T142051Z
UID:10001703-1707397200-1707400800@masonmusic.com
SUMMARY:Munchkin Music: Mountain Brook
DESCRIPTION:
URL:https://masonmusic.com/event/munchkin-music-session-2-2/2024-02-08/
LOCATION:Mason Music Mountain Brook\, 2903 Cahaba Road\, Birmingham\, AL\, 35223\, United States
ATTACH;FMTTYPE=image/png:https://masonmusic.com/wp-content/uploads/InstagramPost-8.png
END:VEVENT
BEGIN:VEVENT
DTSTART;TZID=America/Chicago:20240201T130000
DTEND;TZID=America/Chicago:20240201T140000
DTSTAMP:20260420T232427
CREATED:20230407T155748Z
LAST-MODIFIED:20230426T142051Z
UID:10001702-1706792400-1706796000@masonmusic.com
SUMMARY:Munchkin Music: Mountain Brook
DESCRIPTION:
URL:https://masonmusic.com/event/munchkin-music-session-2-2/2024-02-01/
LOCATION:Mason Music Mountain Brook\, 2903 Cahaba Road\, Birmingham\, AL\, 35223\, United States
ATTACH;FMTTYPE=image/png:https://masonmusic.com/wp-content/uploads/InstagramPost-8.png
END:VEVENT
BEGIN:VEVENT
DTSTART;TZID=America/Chicago:20240125T130000
DTEND;TZID=America/Chicago:20240125T140000
DTSTAMP:20260420T232427
CREATED:20230407T155748Z
LAST-MODIFIED:20230426T142051Z
UID:10001701-1706187600-1706191200@masonmusic.com
SUMMARY:Munchkin Music: Mountain Brook
DESCRIPTION:
URL:https://masonmusic.com/event/munchkin-music-session-2-2/2024-01-25/
LOCATION:Mason Music Mountain Brook\, 2903 Cahaba Road\, Birmingham\, AL\, 35223\, United States
ATTACH;FMTTYPE=image/png:https://masonmusic.com/wp-content/uploads/InstagramPost-8.png
END:VEVENT
BEGIN:VEVENT
DTSTART;TZID=America/Chicago:20240118T130000
DTEND;TZID=America/Chicago:20240118T140000
DTSTAMP:20260420T232427
CREATED:20230407T155748Z
LAST-MODIFIED:20230426T142051Z
UID:10001700-1705582800-1705586400@masonmusic.com
SUMMARY:Munchkin Music: Mountain Brook
DESCRIPTION:
URL:https://masonmusic.com/event/munchkin-music-session-2-2/2024-01-18/
LOCATION:Mason Music Mountain Brook\, 2903 Cahaba Road\, Birmingham\, AL\, 35223\, United States
ATTACH;FMTTYPE=image/png:https://masonmusic.com/wp-content/uploads/InstagramPost-8.png
END:VEVENT
BEGIN:VEVENT
DTSTART;TZID=America/Chicago:20240111T130000
DTEND;TZID=America/Chicago:20240111T140000
DTSTAMP:20260420T232427
CREATED:20230407T155748Z
LAST-MODIFIED:20230426T142051Z
UID:10001699-1704978000-1704981600@masonmusic.com
SUMMARY:Munchkin Music: Mountain Brook
DESCRIPTION:
URL:https://masonmusic.com/event/munchkin-music-session-2-2/2024-01-11/
LOCATION:Mason Music Mountain Brook\, 2903 Cahaba Road\, Birmingham\, AL\, 35223\, United States
ATTACH;FMTTYPE=image/png:https://masonmusic.com/wp-content/uploads/InstagramPost-8.png
END:VEVENT
BEGIN:VEVENT
DTSTART;TZID=America/Chicago:20240104T130000
DTEND;TZID=America/Chicago:20240104T140000
DTSTAMP:20260420T232427
CREATED:20230407T155748Z
LAST-MODIFIED:20230426T142051Z
UID:10001698-1704373200-1704376800@masonmusic.com
SUMMARY:Munchkin Music: Mountain Brook
DESCRIPTION:
URL:https://masonmusic.com/event/munchkin-music-session-2-2/2024-01-04/
LOCATION:Mason Music Mountain Brook\, 2903 Cahaba Road\, Birmingham\, AL\, 35223\, United States
ATTACH;FMTTYPE=image/png:https://masonmusic.com/wp-content/uploads/InstagramPost-8.png
END:VEVENT
BEGIN:VEVENT
DTSTART;VALUE=DATE:20240102
DTEND;VALUE=DATE:20240103
DTSTAMP:20260420T232427
CREATED:20230327T184719Z
LAST-MODIFIED:20230327T184719Z
UID:10001658-1704153600-1704239999@masonmusic.com
SUMMARY:First Day of Lessons
DESCRIPTION:
URL:https://masonmusic.com/event/first-day-of-lessons/
LOCATION:AL
END:VEVENT
BEGIN:VEVENT
DTSTART;VALUE=DATE:20240101
DTEND;VALUE=DATE:20240102
DTSTAMP:20260420T232427
CREATED:20230327T184656Z
LAST-MODIFIED:20230327T184656Z
UID:10001657-1704067200-1704153599@masonmusic.com
SUMMARY:New Years Day (NO LESSONS)
DESCRIPTION:
URL:https://masonmusic.com/event/new-years-day-no-lessons/
LOCATION:AL
END:VEVENT
BEGIN:VEVENT
DTSTART;TZID=America/Chicago:20231228T130000
DTEND;TZID=America/Chicago:20231228T140000
DTSTAMP:20260420T232427
CREATED:20230407T155748Z
LAST-MODIFIED:20230426T142051Z
UID:10001697-1703768400-1703772000@masonmusic.com
SUMMARY:Munchkin Music: Mountain Brook
DESCRIPTION:
URL:https://masonmusic.com/event/munchkin-music-session-2-2/2023-12-28/
LOCATION:Mason Music Mountain Brook\, 2903 Cahaba Road\, Birmingham\, AL\, 35223\, United States
ATTACH;FMTTYPE=image/png:https://masonmusic.com/wp-content/uploads/InstagramPost-8.png
END:VEVENT
BEGIN:VEVENT
DTSTART;TZID=America/Chicago:20231221T130000
DTEND;TZID=America/Chicago:20231221T140000
DTSTAMP:20260420T232427
CREATED:20230407T155748Z
LAST-MODIFIED:20230426T142051Z
UID:10001696-1703163600-1703167200@masonmusic.com
SUMMARY:Munchkin Music: Mountain Brook
DESCRIPTION:
URL:https://masonmusic.com/event/munchkin-music-session-2-2/2023-12-21/
LOCATION:Mason Music Mountain Brook\, 2903 Cahaba Road\, Birmingham\, AL\, 35223\, United States
ATTACH;FMTTYPE=image/png:https://masonmusic.com/wp-content/uploads/InstagramPost-8.png
END:VEVENT
BEGIN:VEVENT
DTSTART;VALUE=DATE:20231218
DTEND;VALUE=DATE:20240102
DTSTAMP:20260420T232427
CREATED:20230327T184544Z
LAST-MODIFIED:20230327T184544Z
UID:10001654-1702857600-1704153599@masonmusic.com
SUMMARY:Winter Break: No Lessons
DESCRIPTION:
URL:https://masonmusic.com/event/winter-break-no-lessons/
LOCATION:AL
END:VEVENT
BEGIN:VEVENT
DTSTART;TZID=America/Chicago:20231214T130000
DTEND;TZID=America/Chicago:20231214T140000
DTSTAMP:20260420T232427
CREATED:20230407T155748Z
LAST-MODIFIED:20230426T142051Z
UID:10001695-1702558800-1702562400@masonmusic.com
SUMMARY:Munchkin Music: Mountain Brook
DESCRIPTION:
URL:https://masonmusic.com/event/munchkin-music-session-2-2/2023-12-14/
LOCATION:Mason Music Mountain Brook\, 2903 Cahaba Road\, Birmingham\, AL\, 35223\, United States
ATTACH;FMTTYPE=image/png:https://masonmusic.com/wp-content/uploads/InstagramPost-8.png
END:VEVENT
BEGIN:VEVENT
DTSTART;VALUE=DATE:20231209
DTEND;VALUE=DATE:20231211
DTSTAMP:20260420T232427
CREATED:20230327T184434Z
LAST-MODIFIED:20231002T193916Z
UID:10001652-1702080000-1702252799@masonmusic.com
SUMMARY:Winter Recital 2023
DESCRIPTION:
URL:https://masonmusic.com/event/winter-recital-2023-2/
LOCATION:AL
ATTACH;FMTTYPE=image/jpeg:https://masonmusic.com/wp-content/uploads/WebpageFeatured-1.jpg
END:VEVENT
BEGIN:VEVENT
DTSTART;TZID=America/Chicago:20231207T130000
DTEND;TZID=America/Chicago:20231207T140000
DTSTAMP:20260420T232427
CREATED:20230407T155748Z
LAST-MODIFIED:20230426T142051Z
UID:10001694-1701954000-1701957600@masonmusic.com
SUMMARY:Munchkin Music: Mountain Brook
DESCRIPTION:
URL:https://masonmusic.com/event/munchkin-music-session-2-2/2023-12-07/
LOCATION:Mason Music Mountain Brook\, 2903 Cahaba Road\, Birmingham\, AL\, 35223\, United States
ATTACH;FMTTYPE=image/png:https://masonmusic.com/wp-content/uploads/InstagramPost-8.png
END:VEVENT
BEGIN:VEVENT
DTSTART;VALUE=DATE:20231202
DTEND;VALUE=DATE:20231204
DTSTAMP:20260420T232427
CREATED:20230327T184229Z
LAST-MODIFIED:20231002T192828Z
UID:10001651-1701475200-1701647999@masonmusic.com
SUMMARY:Winter Recital 2023
DESCRIPTION:
URL:https://masonmusic.com/event/winter-recital-2023/
LOCATION:AL
ATTACH;FMTTYPE=image/jpeg:https://masonmusic.com/wp-content/uploads/WebpageFeatured-1.jpg
END:VEVENT
BEGIN:VEVENT
DTSTART;TZID=America/Chicago:20231130T130000
DTEND;TZID=America/Chicago:20231130T140000
DTSTAMP:20260420T232427
CREATED:20230407T155748Z
LAST-MODIFIED:20230426T142051Z
UID:10001693-1701349200-1701352800@masonmusic.com
SUMMARY:Munchkin Music: Mountain Brook
DESCRIPTION:
URL:https://masonmusic.com/event/munchkin-music-session-2-2/2023-11-30/
LOCATION:Mason Music Mountain Brook\, 2903 Cahaba Road\, Birmingham\, AL\, 35223\, United States
ATTACH;FMTTYPE=image/png:https://masonmusic.com/wp-content/uploads/InstagramPost-8.png
END:VEVENT
BEGIN:VEVENT
DTSTART;VALUE=DATE:20231127
DTEND;VALUE=DATE:20231202
DTSTAMP:20260420T232427
CREATED:20230327T184143Z
LAST-MODIFIED:20230327T184143Z
UID:10001650-1701043200-1701475199@masonmusic.com
SUMMARY:Munchkin Music Session 2 Ends
DESCRIPTION:
URL:https://masonmusic.com/event/munchkin-music-session-2-ends/
LOCATION:AL
END:VEVENT
BEGIN:VEVENT
DTSTART;VALUE=DATE:20231127
DTEND;VALUE=DATE:20231128
DTSTAMP:20260420T232427
CREATED:20230327T184113Z
LAST-MODIFIED:20230327T184113Z
UID:10001649-1701043200-1701129599@masonmusic.com
SUMMARY:Second Weekend of Winter Recital 2023 Registration Closes
DESCRIPTION:
URL:https://masonmusic.com/event/second-weekend-of-winter-recital-2023-registration-closes/
LOCATION:AL
END:VEVENT
BEGIN:VEVENT
DTSTART;TZID=America/Chicago:20231123T130000
DTEND;TZID=America/Chicago:20231123T140000
DTSTAMP:20260420T232427
CREATED:20230407T155748Z
LAST-MODIFIED:20230426T142051Z
UID:10001692-1700744400-1700748000@masonmusic.com
SUMMARY:Munchkin Music: Mountain Brook
DESCRIPTION:
URL:https://masonmusic.com/event/munchkin-music-session-2-2/2023-11-23/
LOCATION:Mason Music Mountain Brook\, 2903 Cahaba Road\, Birmingham\, AL\, 35223\, United States
ATTACH;FMTTYPE=image/png:https://masonmusic.com/wp-content/uploads/InstagramPost-8.png
END:VEVENT
BEGIN:VEVENT
DTSTART;VALUE=DATE:20231122
DTEND;VALUE=DATE:20231126
DTSTAMP:20260420T232427
CREATED:20230327T184039Z
LAST-MODIFIED:20230327T184039Z
UID:10001648-1700611200-1700956799@masonmusic.com
SUMMARY:Thanksgiving Break: No Lessons
DESCRIPTION:
URL:https://masonmusic.com/event/thanksgiving-break-no-lessons/
LOCATION:AL
END:VEVENT
BEGIN:VEVENT
DTSTART;VALUE=DATE:20231120
DTEND;VALUE=DATE:20231121
DTSTAMP:20260420T232427
CREATED:20230327T183950Z
LAST-MODIFIED:20230327T183950Z
UID:10001647-1700438400-1700524799@masonmusic.com
SUMMARY:First Weekend of Winter Recital 2023 Registration Closes
DESCRIPTION:
URL:https://masonmusic.com/event/first-weekend-of-winter-recital-2023-registration-closes/
LOCATION:AL
END:VEVENT
BEGIN:VEVENT
DTSTART;VALUE=DATE:20231119
DTEND;VALUE=DATE:20231120
DTSTAMP:20260420T232427
CREATED:20230327T183908Z
LAST-MODIFIED:20230908T160312Z
UID:10001646-1700352000-1700438399@masonmusic.com
SUMMARY:Fall 2022 Rock Band League Battle of the Bands and Awards Ceremony
DESCRIPTION:Battle of the Bands & Awards Ceremony at Iron City\, Doors Open at 12:30pm
URL:https://masonmusic.com/event/fall-2022-rock-band-league-battle-of-the-bands-and-awards-ceremony/
LOCATION:Iron City\, 513 22nd Street South\, Birmingham\, AL\, 35233\, United States
ATTACH;FMTTYPE=image/png:https://masonmusic.com/wp-content/uploads/Screen-Shot-2023-04-24-at-4.01.45-PM.png
END:VEVENT
BEGIN:VEVENT
DTSTART;TZID=America/Chicago:20231116T130000
DTEND;TZID=America/Chicago:20231116T140000
DTSTAMP:20260420T232427
CREATED:20230407T155748Z
LAST-MODIFIED:20230426T142051Z
UID:10001691-1700139600-1700143200@masonmusic.com
SUMMARY:Munchkin Music: Mountain Brook
DESCRIPTION:
URL:https://masonmusic.com/event/munchkin-music-session-2-2/2023-11-16/
LOCATION:Mason Music Mountain Brook\, 2903 Cahaba Road\, Birmingham\, AL\, 35223\, United States
ATTACH;FMTTYPE=image/png:https://masonmusic.com/wp-content/uploads/InstagramPost-8.png
END:VEVENT
BEGIN:VEVENT
DTSTART;VALUE=DATE:20231110
DTEND;VALUE=DATE:20231111
DTSTAMP:20260420T232427
CREATED:20230327T183828Z
LAST-MODIFIED:20230424T210303Z
UID:10001645-1699574400-1699660799@masonmusic.com
SUMMARY:Spring 2024 Rock Band League Registration Opens
DESCRIPTION:
URL:https://masonmusic.com/event/spring-2024-rock-band-league-registration-opens/
LOCATION:AL
ATTACH;FMTTYPE=image/png:https://masonmusic.com/wp-content/uploads/Screen-Shot-2023-04-24-at-4.01.45-PM.png
END:VEVENT
BEGIN:VEVENT
DTSTART;TZID=America/Chicago:20231109T130000
DTEND;TZID=America/Chicago:20231109T140000
DTSTAMP:20260420T232427
CREATED:20230407T155748Z
LAST-MODIFIED:20230426T142051Z
UID:10001690-1699534800-1699538400@masonmusic.com
SUMMARY:Munchkin Music: Mountain Brook
DESCRIPTION:
URL:https://masonmusic.com/event/munchkin-music-session-2-2/2023-11-09/
LOCATION:Mason Music Mountain Brook\, 2903 Cahaba Road\, Birmingham\, AL\, 35223\, United States
ATTACH;FMTTYPE=image/png:https://masonmusic.com/wp-content/uploads/InstagramPost-8.png
END:VEVENT
BEGIN:VEVENT
DTSTART;VALUE=DATE:20231106
DTEND;VALUE=DATE:20231118
DTSTAMP:20260420T232427
CREATED:20230327T183636Z
LAST-MODIFIED:20230327T183636Z
UID:10001643-1699228800-1700265599@masonmusic.com
SUMMARY:Mason Music Canned Food Drive
DESCRIPTION:
URL:https://masonmusic.com/event/mason-music-canned-food-drive/
LOCATION:AL
END:VEVENT
BEGIN:VEVENT
DTSTART;VALUE=DATE:20231106
DTEND;VALUE=DATE:20231107
DTSTAMP:20260420T232427
CREATED:20230327T183721Z
LAST-MODIFIED:20230424T210334Z
UID:10001644-1699228800-1699315199@masonmusic.com
SUMMARY:Spring 2024 Rock Band League Registration Opens Early for Fall Participants
DESCRIPTION:
URL:https://masonmusic.com/event/spring-2024-rock-band-league-registration-opens-early-for-fall-participants/
LOCATION:AL
ATTACH;FMTTYPE=image/png:https://masonmusic.com/wp-content/uploads/Screen-Shot-2023-04-24-at-4.01.45-PM.png
END:VEVENT
BEGIN:VEVENT
DTSTART;TZID=America/Chicago:20231102T130000
DTEND;TZID=America/Chicago:20231102T140000
DTSTAMP:20260420T232427
CREATED:20230407T155748Z
LAST-MODIFIED:20230426T142051Z
UID:10001689-1698930000-1698933600@masonmusic.com
SUMMARY:Munchkin Music: Mountain Brook
DESCRIPTION:
URL:https://masonmusic.com/event/munchkin-music-session-2-2/2023-11-02/
LOCATION:Mason Music Mountain Brook\, 2903 Cahaba Road\, Birmingham\, AL\, 35223\, United States
ATTACH;FMTTYPE=image/png:https://masonmusic.com/wp-content/uploads/InstagramPost-8.png
END:VEVENT
BEGIN:VEVENT
DTSTART;TZID=America/Chicago:20231028T130000
DTEND;TZID=America/Chicago:20231028T160000
DTSTAMP:20260420T232427
CREATED:20230612T184511Z
LAST-MODIFIED:20230612T184511Z
UID:10001721-1698498000-1698508800@masonmusic.com
SUMMARY:ROCKSHOP
DESCRIPTION:
URL:https://masonmusic.com/event/rockshop/
LOCATION:Mason Music Mountain Brook\, 2903 Cahaba Road\, Birmingham\, AL\, 35223\, United States
END:VEVENT
END:VCALENDAR