BEGIN:VCALENDAR
VERSION:2.0
PRODID:-//Mason Music - ECPv6.3.7//NONSGML v1.0//EN
CALSCALE:GREGORIAN
METHOD:PUBLISH
X-WR-CALNAME:Mason Music
X-ORIGINAL-URL:https://masonmusic.com
X-WR-CALDESC:Events for Mason Music
REFRESH-INTERVAL;VALUE=DURATION:PT1H
X-Robots-Tag:noindex
X-PUBLISHED-TTL:PT1H
BEGIN:VTIMEZONE
TZID:America/Chicago
BEGIN:DAYLIGHT
TZOFFSETFROM:-0600
TZOFFSETTO:-0500
TZNAME:CDT
DTSTART:20230312T080000
END:DAYLIGHT
BEGIN:STANDARD
TZOFFSETFROM:-0500
TZOFFSETTO:-0600
TZNAME:CST
DTSTART:20231105T070000
END:STANDARD
END:VTIMEZONE
BEGIN:VEVENT
DTSTART;VALUE=DATE:20231110
DTEND;VALUE=DATE:20231111
DTSTAMP:20260421T041303
CREATED:20230327T183828Z
LAST-MODIFIED:20230424T210303Z
UID:10001645-1699574400-1699660799@masonmusic.com
SUMMARY:Spring 2024 Rock Band League Registration Opens
DESCRIPTION:
URL:https://masonmusic.com/event/spring-2024-rock-band-league-registration-opens/
LOCATION:AL
ATTACH;FMTTYPE=image/png:https://masonmusic.com/wp-content/uploads/Screen-Shot-2023-04-24-at-4.01.45-PM.png
END:VEVENT
BEGIN:VEVENT
DTSTART;TZID=America/Chicago:20231109T130000
DTEND;TZID=America/Chicago:20231109T140000
DTSTAMP:20260421T041303
CREATED:20230407T155748Z
LAST-MODIFIED:20230426T142051Z
UID:10001690-1699534800-1699538400@masonmusic.com
SUMMARY:Munchkin Music: Mountain Brook
DESCRIPTION:
URL:https://masonmusic.com/event/munchkin-music-session-2-2/2023-11-09/
LOCATION:Mason Music Mountain Brook\, 2903 Cahaba Road\, Birmingham\, AL\, 35223\, United States
ATTACH;FMTTYPE=image/png:https://masonmusic.com/wp-content/uploads/InstagramPost-8.png
END:VEVENT
BEGIN:VEVENT
DTSTART;VALUE=DATE:20231106
DTEND;VALUE=DATE:20231118
DTSTAMP:20260421T041303
CREATED:20230327T183636Z
LAST-MODIFIED:20230327T183636Z
UID:10001643-1699228800-1700265599@masonmusic.com
SUMMARY:Mason Music Canned Food Drive
DESCRIPTION:
URL:https://masonmusic.com/event/mason-music-canned-food-drive/
LOCATION:AL
END:VEVENT
BEGIN:VEVENT
DTSTART;VALUE=DATE:20231106
DTEND;VALUE=DATE:20231107
DTSTAMP:20260421T041303
CREATED:20230327T183721Z
LAST-MODIFIED:20230424T210334Z
UID:10001644-1699228800-1699315199@masonmusic.com
SUMMARY:Spring 2024 Rock Band League Registration Opens Early for Fall Participants
DESCRIPTION:
URL:https://masonmusic.com/event/spring-2024-rock-band-league-registration-opens-early-for-fall-participants/
LOCATION:AL
ATTACH;FMTTYPE=image/png:https://masonmusic.com/wp-content/uploads/Screen-Shot-2023-04-24-at-4.01.45-PM.png
END:VEVENT
BEGIN:VEVENT
DTSTART;TZID=America/Chicago:20231102T130000
DTEND;TZID=America/Chicago:20231102T140000
DTSTAMP:20260421T041303
CREATED:20230407T155748Z
LAST-MODIFIED:20230426T142051Z
UID:10001689-1698930000-1698933600@masonmusic.com
SUMMARY:Munchkin Music: Mountain Brook
DESCRIPTION:
URL:https://masonmusic.com/event/munchkin-music-session-2-2/2023-11-02/
LOCATION:Mason Music Mountain Brook\, 2903 Cahaba Road\, Birmingham\, AL\, 35223\, United States
ATTACH;FMTTYPE=image/png:https://masonmusic.com/wp-content/uploads/InstagramPost-8.png
END:VEVENT
BEGIN:VEVENT
DTSTART;TZID=America/Chicago:20231028T130000
DTEND;TZID=America/Chicago:20231028T160000
DTSTAMP:20260421T041303
CREATED:20230612T184511Z
LAST-MODIFIED:20230612T184511Z
UID:10001721-1698498000-1698508800@masonmusic.com
SUMMARY:ROCKSHOP
DESCRIPTION:
URL:https://masonmusic.com/event/rockshop/
LOCATION:Mason Music Mountain Brook\, 2903 Cahaba Road\, Birmingham\, AL\, 35223\, United States
END:VEVENT
BEGIN:VEVENT
DTSTART;TZID=America/Chicago:20231026T130000
DTEND;TZID=America/Chicago:20231026T140000
DTSTAMP:20260421T041303
CREATED:20230407T155748Z
LAST-MODIFIED:20230426T142051Z
UID:10001688-1698325200-1698328800@masonmusic.com
SUMMARY:Munchkin Music: Mountain Brook
DESCRIPTION:
URL:https://masonmusic.com/event/munchkin-music-session-2-2/2023-10-26/
LOCATION:Mason Music Mountain Brook\, 2903 Cahaba Road\, Birmingham\, AL\, 35223\, United States
ATTACH;FMTTYPE=image/png:https://masonmusic.com/wp-content/uploads/InstagramPost-8.png
END:VEVENT
BEGIN:VEVENT
DTSTART;VALUE=DATE:20231023
DTEND;VALUE=DATE:20231031
DTSTAMP:20260421T041303
CREATED:20230327T183512Z
LAST-MODIFIED:20230327T183512Z
UID:10001642-1698019200-1698710399@masonmusic.com
SUMMARY:Student Halloween Costume Contest
DESCRIPTION:
URL:https://masonmusic.com/event/student-halloween-costume-contest/
LOCATION:AL
END:VEVENT
BEGIN:VEVENT
DTSTART;TZID=America/Chicago:20231019T130000
DTEND;TZID=America/Chicago:20231019T140000
DTSTAMP:20260421T041303
CREATED:20230407T155748Z
LAST-MODIFIED:20230426T142051Z
UID:10001687-1697720400-1697724000@masonmusic.com
SUMMARY:Munchkin Music: Mountain Brook
DESCRIPTION:
URL:https://masonmusic.com/event/munchkin-music-session-2-2/2023-10-19/
LOCATION:Mason Music Mountain Brook\, 2903 Cahaba Road\, Birmingham\, AL\, 35223\, United States
ATTACH;FMTTYPE=image/png:https://masonmusic.com/wp-content/uploads/InstagramPost-8.png
END:VEVENT
BEGIN:VEVENT
DTSTART;VALUE=DATE:20231016
DTEND;VALUE=DATE:20231022
DTSTAMP:20260421T041303
CREATED:20230327T183433Z
LAST-MODIFIED:20230327T183433Z
UID:10001641-1697414400-1697932799@masonmusic.com
SUMMARY:Progress Report/Conference Week
DESCRIPTION:
URL:https://masonmusic.com/event/progress-report-conference-week/
LOCATION:AL
END:VEVENT
BEGIN:VEVENT
DTSTART;VALUE=DATE:20231015
DTEND;VALUE=DATE:20231016
DTSTAMP:20260421T041303
CREATED:20230327T183357Z
LAST-MODIFIED:20230908T160227Z
UID:10001640-1697328000-1697414399@masonmusic.com
SUMMARY:Fall 2023 Rock Band League Second Performance
DESCRIPTION:Performance Tour Date #2 at Avondale Brewing\, Doors Open at 2:30pm
URL:https://masonmusic.com/event/fall-2023-rock-band-league-second-performance/
LOCATION:Avondale Brewing Company\, 201 41st St S\, Birmingham\, AL\, 35222\, United States
ATTACH;FMTTYPE=image/png:https://masonmusic.com/wp-content/uploads/MM_Fall2023_RBL__Digital_IGPost_1080x1080.png
END:VEVENT
BEGIN:VEVENT
DTSTART;TZID=America/Chicago:20231012T130000
DTEND;TZID=America/Chicago:20231012T140000
DTSTAMP:20260421T041303
CREATED:20230407T155748Z
LAST-MODIFIED:20230426T142051Z
UID:10001686-1697115600-1697119200@masonmusic.com
SUMMARY:Munchkin Music: Mountain Brook
DESCRIPTION:
URL:https://masonmusic.com/event/munchkin-music-session-2-2/2023-10-12/
LOCATION:Mason Music Mountain Brook\, 2903 Cahaba Road\, Birmingham\, AL\, 35223\, United States
ATTACH;FMTTYPE=image/png:https://masonmusic.com/wp-content/uploads/InstagramPost-8.png
END:VEVENT
BEGIN:VEVENT
DTSTART;TZID=America/Chicago:20231005T130000
DTEND;TZID=America/Chicago:20231005T140000
DTSTAMP:20260421T041303
CREATED:20230407T155748Z
LAST-MODIFIED:20230426T142051Z
UID:10001685-1696510800-1696514400@masonmusic.com
SUMMARY:Munchkin Music: Mountain Brook
DESCRIPTION:
URL:https://masonmusic.com/event/munchkin-music-session-2-2/2023-10-05/
LOCATION:Mason Music Mountain Brook\, 2903 Cahaba Road\, Birmingham\, AL\, 35223\, United States
ATTACH;FMTTYPE=image/png:https://masonmusic.com/wp-content/uploads/InstagramPost-8.png
END:VEVENT
BEGIN:VEVENT
DTSTART;VALUE=DATE:20231002
DTEND;VALUE=DATE:20231006
DTSTAMP:20260421T041303
CREATED:20230327T183241Z
LAST-MODIFIED:20230424T205213Z
UID:10001639-1696204800-1696550399@masonmusic.com
SUMMARY:Munchkin Music Session 2 Starts
DESCRIPTION:
URL:https://masonmusic.com/event/munchkin-music-session-2-starts/
LOCATION:AL
ATTACH;FMTTYPE=image/png:https://masonmusic.com/wp-content/uploads/InstagramPost-8.png
END:VEVENT
BEGIN:VEVENT
DTSTART;VALUE=DATE:20231001
DTEND;VALUE=DATE:20231002
DTSTAMP:20260421T041303
CREATED:20230327T183156Z
LAST-MODIFIED:20230327T183156Z
UID:10001638-1696118400-1696204799@masonmusic.com
SUMMARY:Winter Recital 2023 and Winter Break Camps Registration Opens
DESCRIPTION:
URL:https://masonmusic.com/event/winter-recital-2023-and-winter-break-camps-registration-opens/
LOCATION:AL
END:VEVENT
BEGIN:VEVENT
DTSTART;TZID=America/Chicago:20230928T130000
DTEND;TZID=America/Chicago:20230928T140000
DTSTAMP:20260421T041303
CREATED:20230407T155748Z
LAST-MODIFIED:20230426T142051Z
UID:10001684-1695906000-1695909600@masonmusic.com
SUMMARY:Munchkin Music: Mountain Brook
DESCRIPTION:
URL:https://masonmusic.com/event/munchkin-music-session-2-2/2023-09-28/
LOCATION:Mason Music Mountain Brook\, 2903 Cahaba Road\, Birmingham\, AL\, 35223\, United States
ATTACH;FMTTYPE=image/png:https://masonmusic.com/wp-content/uploads/InstagramPost-8.png
END:VEVENT
BEGIN:VEVENT
DTSTART;VALUE=DATE:20230925
DTEND;VALUE=DATE:20230930
DTSTAMP:20260421T041303
CREATED:20230327T183121Z
LAST-MODIFIED:20230424T205739Z
UID:10001637-1695600000-1696031999@masonmusic.com
SUMMARY:Munchkin Music Session 1 Ends
DESCRIPTION:
URL:https://masonmusic.com/event/munchkin-music-session-1-ends/
LOCATION:AL
ATTACH;FMTTYPE=image/png:https://masonmusic.com/wp-content/uploads/InstagramPost-8.png
END:VEVENT
BEGIN:VEVENT
DTSTART;TZID=America/Chicago:20230921T130000
DTEND;TZID=America/Chicago:20230921T140000
DTSTAMP:20260421T041303
CREATED:20230407T155748Z
LAST-MODIFIED:20230426T142051Z
UID:10001683-1695301200-1695304800@masonmusic.com
SUMMARY:Munchkin Music: Mountain Brook
DESCRIPTION:
URL:https://masonmusic.com/event/munchkin-music-session-2-2/2023-09-21/
LOCATION:Mason Music Mountain Brook\, 2903 Cahaba Road\, Birmingham\, AL\, 35223\, United States
ATTACH;FMTTYPE=image/png:https://masonmusic.com/wp-content/uploads/InstagramPost-8.png
END:VEVENT
BEGIN:VEVENT
DTSTART;VALUE=DATE:20230917
DTEND;VALUE=DATE:20230918
DTSTAMP:20260421T041303
CREATED:20230327T183038Z
LAST-MODIFIED:20230908T160503Z
UID:10001636-1694908800-1694995199@masonmusic.com
SUMMARY:Fall 2023 Rock Band League First Performance
DESCRIPTION:Performance Tour Date #1 at Woodlawn Theatre\, Doors Open at 2:30pm
URL:https://masonmusic.com/event/fall-2023-rock-band-league-first-performance/
LOCATION:The Woodlawn Theatre\, 5503 1st Ave N\, Birmingham\, AL\, 35212\, United States
ATTACH;FMTTYPE=image/png:https://masonmusic.com/wp-content/uploads/MM_Fall2023_RBL__Digital_IGPost_1080x1080.png
END:VEVENT
BEGIN:VEVENT
DTSTART;TZID=America/Chicago:20230914T130000
DTEND;TZID=America/Chicago:20230914T140000
DTSTAMP:20260421T041303
CREATED:20230407T155748Z
LAST-MODIFIED:20230426T142051Z
UID:10001682-1694696400-1694700000@masonmusic.com
SUMMARY:Munchkin Music: Mountain Brook
DESCRIPTION:
URL:https://masonmusic.com/event/munchkin-music-session-2-2/2023-09-14/
LOCATION:Mason Music Mountain Brook\, 2903 Cahaba Road\, Birmingham\, AL\, 35223\, United States
ATTACH;FMTTYPE=image/png:https://masonmusic.com/wp-content/uploads/InstagramPost-8.png
END:VEVENT
BEGIN:VEVENT
DTSTART;VALUE=DATE:20230909
DTEND;VALUE=DATE:20230910
DTSTAMP:20260421T041303
CREATED:20230908T195759Z
LAST-MODIFIED:20230908T200154Z
UID:10001722-1694217600-1694303999@masonmusic.com
SUMMARY:Steph and the Web Performing at Woodlawn Theatre
DESCRIPTION:with Little Lazy\, Audiophile\, and Hatch Blvd. Doors open at 6:00pm
URL:https://masonmusic.com/event/steph-and-the-web-performing-at-woodlawn-theatre/
LOCATION:The Woodlawn Theatre\, 5503 1st Ave N\, Birmingham\, AL\, 35212\, United States
END:VEVENT
BEGIN:VEVENT
DTSTART;TZID=America/Chicago:20230907T130000
DTEND;TZID=America/Chicago:20230907T140000
DTSTAMP:20260421T041303
CREATED:20230407T155748Z
LAST-MODIFIED:20230426T142051Z
UID:10001681-1694091600-1694095200@masonmusic.com
SUMMARY:Munchkin Music: Mountain Brook
DESCRIPTION:
URL:https://masonmusic.com/event/munchkin-music-session-2-2/2023-09-07/
LOCATION:Mason Music Mountain Brook\, 2903 Cahaba Road\, Birmingham\, AL\, 35223\, United States
ATTACH;FMTTYPE=image/png:https://masonmusic.com/wp-content/uploads/InstagramPost-8.png
END:VEVENT
BEGIN:VEVENT
DTSTART;VALUE=DATE:20230904
DTEND;VALUE=DATE:20230905
DTSTAMP:20260421T041303
CREATED:20230327T174033Z
LAST-MODIFIED:20230327T174033Z
UID:10001632-1693785600-1693871999@masonmusic.com
SUMMARY:Labor Day: No Lessons or Munchkin Music
DESCRIPTION:
URL:https://masonmusic.com/event/labor-day-no-lessons-or-munchkin-music/
LOCATION:AL
END:VEVENT
BEGIN:VEVENT
DTSTART;TZID=America/Chicago:20230831T130000
DTEND;TZID=America/Chicago:20230831T140000
DTSTAMP:20260421T041303
CREATED:20230407T155748Z
LAST-MODIFIED:20230426T142051Z
UID:10001680-1693486800-1693490400@masonmusic.com
SUMMARY:Munchkin Music: Mountain Brook
DESCRIPTION:
URL:https://masonmusic.com/event/munchkin-music-session-2-2/2023-08-31/
LOCATION:Mason Music Mountain Brook\, 2903 Cahaba Road\, Birmingham\, AL\, 35223\, United States
ATTACH;FMTTYPE=image/png:https://masonmusic.com/wp-content/uploads/InstagramPost-8.png
END:VEVENT
BEGIN:VEVENT
DTSTART;VALUE=DATE:20230829
DTEND;VALUE=DATE:20230830
DTSTAMP:20260421T041303
CREATED:20230327T182855Z
LAST-MODIFIED:20230626T135314Z
UID:10001634-1693267200-1693353599@masonmusic.com
SUMMARY:Fall 2023 Rock Band League Registration Closes
DESCRIPTION:
URL:https://masonmusic.com/event/fall-2023-rock-band-league-registration-closes-2/
LOCATION:AL
ATTACH;FMTTYPE=image/png:https://masonmusic.com/wp-content/uploads/MM_Fall2023_RBL__Digital_IGPost_1080x1080.png
END:VEVENT
BEGIN:VEVENT
DTSTART;VALUE=DATE:20230827
DTEND;VALUE=DATE:20230828
DTSTAMP:20260421T041303
CREATED:20230327T183002Z
LAST-MODIFIED:20230626T135414Z
UID:10001635-1693094400-1693180799@masonmusic.com
SUMMARY:Fall 2023 Rock Band League Rehearsals Start
DESCRIPTION:
URL:https://masonmusic.com/event/fall-2023-rock-band-league-rehearsals-start/
LOCATION:AL
ATTACH;FMTTYPE=image/png:https://masonmusic.com/wp-content/uploads/MM_Fall2023_RBL__Digital_IGPost_1080x1080.png
END:VEVENT
BEGIN:VEVENT
DTSTART;TZID=America/Chicago:20230824T130000
DTEND;TZID=America/Chicago:20230824T140000
DTSTAMP:20260421T041303
CREATED:20230407T155748Z
LAST-MODIFIED:20230426T142051Z
UID:10001679-1692882000-1692885600@masonmusic.com
SUMMARY:Munchkin Music: Mountain Brook
DESCRIPTION:
URL:https://masonmusic.com/event/munchkin-music-session-2-2/2023-08-24/
LOCATION:Mason Music Mountain Brook\, 2903 Cahaba Road\, Birmingham\, AL\, 35223\, United States
ATTACH;FMTTYPE=image/png:https://masonmusic.com/wp-content/uploads/InstagramPost-8.png
END:VEVENT
BEGIN:VEVENT
DTSTART;TZID=America/Chicago:20230817T130000
DTEND;TZID=America/Chicago:20230817T140000
DTSTAMP:20260421T041303
CREATED:20230407T155748Z
LAST-MODIFIED:20230426T142051Z
UID:10001678-1692277200-1692280800@masonmusic.com
SUMMARY:Munchkin Music: Mountain Brook
DESCRIPTION:
URL:https://masonmusic.com/event/munchkin-music-session-2-2/2023-08-17/
LOCATION:Mason Music Mountain Brook\, 2903 Cahaba Road\, Birmingham\, AL\, 35223\, United States
ATTACH;FMTTYPE=image/png:https://masonmusic.com/wp-content/uploads/InstagramPost-8.png
END:VEVENT
BEGIN:VEVENT
DTSTART;VALUE=DATE:20230813
DTEND;VALUE=DATE:20230814
DTSTAMP:20260421T041303
CREATED:20230327T174004Z
LAST-MODIFIED:20230424T210656Z
UID:10001631-1691884800-1691971199@masonmusic.com
SUMMARY:Fall 2023 Rock Band League Registration Closes
DESCRIPTION:
URL:https://masonmusic.com/event/fall-2023-rock-band-league-registration-closes/
LOCATION:AL
ATTACH;FMTTYPE=image/png:https://masonmusic.com/wp-content/uploads/Screen-Shot-2023-04-24-at-4.01.45-PM.png
END:VEVENT
BEGIN:VEVENT
DTSTART;TZID=America/Chicago:20230810T130000
DTEND;TZID=America/Chicago:20230810T140000
DTSTAMP:20260421T041303
CREATED:20230407T155748Z
LAST-MODIFIED:20230426T142051Z
UID:10001677-1691672400-1691676000@masonmusic.com
SUMMARY:Munchkin Music: Mountain Brook
DESCRIPTION:
URL:https://masonmusic.com/event/munchkin-music-session-2-2/2023-08-10/
LOCATION:Mason Music Mountain Brook\, 2903 Cahaba Road\, Birmingham\, AL\, 35223\, United States
ATTACH;FMTTYPE=image/png:https://masonmusic.com/wp-content/uploads/InstagramPost-8.png
END:VEVENT
END:VCALENDAR